BEGIN:VCALENDAR
VERSION:2.0
PRODID:-//K Street Magazine - ECPv6.15.20//NONSGML v1.0//EN
CALSCALE:GREGORIAN
METHOD:PUBLISH
X-WR-CALNAME:K Street Magazine
X-ORIGINAL-URL:https://kstreetmagazine.com
X-WR-CALDESC:Events for K Street Magazine
REFRESH-INTERVAL;VALUE=DURATION:PT1H
X-Robots-Tag:noindex
X-PUBLISHED-TTL:PT1H
BEGIN:VTIMEZONE
TZID:UTC
BEGIN:STANDARD
TZOFFSETFROM:+0000
TZOFFSETTO:+0000
TZNAME:UTC
DTSTART:20240101T000000
END:STANDARD
END:VTIMEZONE
BEGIN:VEVENT
DTSTART;TZID=UTC:20251231T210000
DTEND;TZID=UTC:20260101T020000
DTSTAMP:20260423T141950
CREATED:20251219T170750Z
LAST-MODIFIED:20251219T170750Z
UID:61332-1767214800-1767232800@kstreetmagazine.com
SUMMARY:LINE DC Friends & Family New Year's Eve Party
DESCRIPTION:Located in the heart of Adams Morgan\, one of D.C.’s most lively neighborhoods\, the LINE DC will host its Friends & Family New Year’s Eve party\, a celebration centered on connection and community. Taking over the Mezzanine from 9:00pm to 2:00am\, the evening will feature DJ sets by Nativesun\, Bridget\, and Fish House Funk\, a photobooth\, and a casual concession stand serving dirty dogs\, popcorn\, chips\, and house-made cookies. \nGuests can expect good music\, good company\, and an unpretentious countdown into 2026. Tickets are available here ($25 pre-sale; $50 general admission) \n 
URL:https://kstreetmagazine.com/event/line-dc-friends-family-new-years-eve-party/
LOCATION:LINE DC\, 1770 Euclid Street NW\, Washington\, DC\, 20009
CATEGORIES:Other Entertainment
END:VEVENT
BEGIN:VEVENT
DTSTART;TZID=UTC:20251231T210000
DTEND;TZID=UTC:20260101T030000
DTSTAMP:20260423T141950
CREATED:20251219T195404Z
LAST-MODIFIED:20251219T195404Z
UID:61336-1767214800-1767236400@kstreetmagazine.com
SUMMARY:Roaring Realm NYE
DESCRIPTION:A night of curated opulence & champagne at Realm Rooftop. Dress code: Posh & Glam. \nThis New Year’s Eve\, JBC Events & Realm Rooftop present: The Roaring Realm\, an evening of opulence high above the city. We are reviving the golden age of decadence with a sophisticated\, modern edge\, creating an exclusive sanctuary for the night. Expect an atmosphere of understated luxury and an ambiance charged with high-society allure. \nThe dress code is simple: posh & glam. Come dressed to command attention and match the breathtaking backdrop of the city skyline. \n\n  \n\n\n\n\n\n\n\n\n\n\n\n\n\n\n\n\n\n\n\n\n\n\n\n\n\n\n\n\n\n\n\n\n\n\n\nWednesday\, December 31\, 2025 9:00 PM\n\nJBC Events Presents: The Roaring Realm NYE 2026\n\n\nTickets\n\n\n\nRealm Rooftop Bar Lounge
URL:https://kstreetmagazine.com/event/roaring-realm-nye/
LOCATION:Realm Rooftop & Bar\, 899 O Street NW\, Washington\, DC\, 20001
CATEGORIES:Other Entertainment
END:VEVENT
BEGIN:VEVENT
DTSTART;TZID=UTC:20260101T090000
DTEND;TZID=UTC:20260101T120000
DTSTAMP:20260423T141950
CREATED:20251224T172411Z
LAST-MODIFIED:20251224T172411Z
UID:61384-1767258000-1767268800@kstreetmagazine.com
SUMMARY:12th Annuals FITDC Fresh Start 5k
DESCRIPTION:Run through the tape with Mayor Muriel Bowser at the 12th Annual FITDC Fresh Start 5K on Thursday\, January 1st! This energizing New Year’s Day tradition brings together community members from all 8 Wards to spread health and positivity as we cross the Frederick Douglass Memorial Bridge. Whether you’re a seasoned runner\, a casual stroller\, or cheering from the sidelines\, the Fresh Start 5K is the perfect place to kickstart your year. \n\n\nRace Information  \n\n\n9:00 AM Registration opens  \n\n\n10:15 AM Kids Dash  \n\n\n11:00 AM Fresh Start 5K begins   \n\n\nSign up now at fitdcfreshstart5k26.splashthat.com! 
URL:https://kstreetmagazine.com/event/12th-annuals-fitdc-fresh-start-5k/
LOCATION:Frederick Douglass Memorial Bridge
CATEGORIES:Health/Wellness
END:VEVENT
BEGIN:VEVENT
DTSTART;TZID=UTC:20260123T193000
DTEND;TZID=UTC:20260123T210000
DTSTAMP:20260423T141950
CREATED:20251223T150104Z
LAST-MODIFIED:20251223T150104Z
UID:61348-1769196600-1769202000@kstreetmagazine.com
SUMMARY:Hellenic Music Ensemble at Strathmore
DESCRIPTION:What: Hellenic Music Ensemble\, Music Director Panos Liaropoulos\, artists: Natassa Bofiliou\, Giannis Haroulis\, and Judy Kuhn\nDate/Time: Friday\, January 23 at 7:30 pm\nLocation: Music Center at Strathmore\, 5301 Tuckerman Lane\, North Bethesda\, MD\nTickets: $52-166 and available here: https://www.strathmore.org/events-tickets/in-the-music-center/the-hellenic-music-ensemble/  \n\n“A century of iconic Greek music comes to life in a global celebration of Hellenic culture. The Hellenic Music Ensemble\, a 21-piece orchestra under the musical direction of Panos Liaropoulos\, embarks on a landmark world tour celebrating the centenary of Greece’s legendary composers Mikis Theodorakis and Manos Hadjidakis. Featuring two of Greece’s most celebrated voices\, Natassa Bofiliou and Giannis Haroulis\, the concert blends powerful contemporary performance with timeless orchestral arrangements. They are joined by special guest star\, the Tony and Grammy Award–nominated Broadway singer and actress Judy Kuhn\, creating a rare artistic bridge between the Greek and American musical worlds. Audiences will experience a sweeping journey through Theodorakis’ stirring anthems of resistance and Hadjidakis’ lyrical masterpieces of love and poetry. Visiting nine countries and performing on some of the world’s most prestigious stages\, this international celebration introduces the beauty and soul of Greek music to audiences worldwide. An unmissable tribute to two cultural icons and the living spirit of Greece.”
URL:https://kstreetmagazine.com/event/hellenic-music-ensemble-at-strathmore/
LOCATION:Music Center at Strathmore\, 5301 Tuckerman Lane\, North Bethesda\, Maryland
CATEGORIES:Music/Concert
END:VEVENT
END:VCALENDAR