BEGIN:VCALENDAR
VERSION:2.0
PRODID:-//K Street Magazine - ECPv6.15.20//NONSGML v1.0//EN
CALSCALE:GREGORIAN
METHOD:PUBLISH
X-ORIGINAL-URL:https://kstreetmagazine.com
X-WR-CALDESC:Events for K Street Magazine
REFRESH-INTERVAL;VALUE=DURATION:PT1H
X-Robots-Tag:noindex
X-PUBLISHED-TTL:PT1H
BEGIN:VTIMEZONE
TZID:UTC
BEGIN:STANDARD
TZOFFSETFROM:+0000
TZOFFSETTO:+0000
TZNAME:UTC
DTSTART:20250101T000000
END:STANDARD
END:VTIMEZONE
BEGIN:VEVENT
DTSTART;TZID=UTC:20260415T173000
DTEND;TZID=UTC:20260415T200000
DTSTAMP:20260421T194401
CREATED:20260413T012302Z
LAST-MODIFIED:20260413T012302Z
UID:61925-1776274200-1776283200@kstreetmagazine.com
SUMMARY:National Museum of Women in the Arts After Hours
DESCRIPTION:NMWA Nights—April\nWednesday\, April 15\, 5:30–8 p.m.\nExperience Earth Day at NMWA with a sustainable fashion show in the Great Hall as part of the museum’s monthly after-hours experience. Peruse the galleries\, grab a cocktail\, listen to a performance\, attend a tour or participate in art-making activities.
URL:https://kstreetmagazine.com/event/national-museum-of-women-in-the-arts-after-hours/
LOCATION:National Museum of Women in the Arts\, 1250 New York Ave.\, NW\, Washington\, DC\, 20005
CATEGORIES:Arts/Theatre,Other Entertainment
END:VEVENT
BEGIN:VEVENT
DTSTART;TZID=UTC:20260416T173000
DTEND;TZID=UTC:20260416T203000
DTSTAMP:20260421T194401
CREATED:20260208T022134Z
LAST-MODIFIED:20260208T022134Z
UID:61577-1776360600-1776371400@kstreetmagazine.com
SUMMARY:Trivia Night at Hillwood
DESCRIPTION:Trivia Night | The Art of Time\nThursday\, April 16\, 2026\, 5:30-8:30 p.m.\nCelebrate milestones and artwork of the past\, present\, and future with a fun and enlightening evening of trivia at Hillwood!\nwww.HillwoodMuseum.org \n4155 Linnean Avenue\, NW\, Washington\, DC 20008
URL:https://kstreetmagazine.com/event/trivia-night-at-hillwood/
LOCATION:Hillwood Museum & Gardens\, 4155 Linnean Avenue\, NW\, Washington\, DC\, 20008
CATEGORIES:Other Entertainment
END:VEVENT
BEGIN:VEVENT
DTSTART;TZID=UTC:20260418T100000
DTEND;TZID=UTC:20260418T123000
DTSTAMP:20260421T194401
CREATED:20260124T143441Z
LAST-MODIFIED:20260124T143441Z
UID:61455-1776506400-1776515400@kstreetmagazine.com
SUMMARY:America’s 250th Birthday Party w/ DAR
DESCRIPTION:America’s 250th Birthday Party\nOur nation is celebrating 250 years\, and everyone is invited to the party! We’re hosting a morning of family-friendly fun throughout the DAR Library\, DAR Museum\, and Memorial Continental Hall. Enjoy historical story time\, Revolution-themed games\, and birthday cupcakes. Plus\, the first 250 guests will receive a patriotic goodie bag! Please feel free to bring any family\, friends and guests to this event and spread the word to others who might be interested. (This event is free and open to the public!) \nEvent Time: 10:00 AM – 12:30 PM \nRSVPs recommended but not required: RSVP Via Eventbrite HERE
URL:https://kstreetmagazine.com/event/americas-250th-birthday-party-w-dar/
LOCATION:DAR Constitution Hall\, 18th & C Streets NW\, Washington\, DC\, 20006
CATEGORIES:Other Entertainment
END:VEVENT
BEGIN:VEVENT
DTSTART;TZID=UTC:20260418T190000
DTEND;TZID=UTC:20260418T210000
DTSTAMP:20260421T194401
CREATED:20260124T143213Z
LAST-MODIFIED:20260124T143312Z
UID:61451-1776538800-1776546000@kstreetmagazine.com
SUMMARY:DAR Celebrates America 250! – A Salute to Women Veterans\, featuring Patti LaBelle
DESCRIPTION:DAR Celebrates America 250! – A Salute to Women Veterans\, featuring Patti LaBelle\nThis special evening will honor America’s military women—past and present—by recognizing their courage\, sacrifice\, and contributions over the last 250 years. The program will spotlight the work of the Military Women’s Memorial\, which preserves and shares the stories of women who have served our nation. \nProceeds from the concert will support DAR’s Vivian’s Outreach to Women (VOW) Grant Program\, which provides assistance to organizations serving homeless and indigent women veterans. \nThe evening will begin with a short recognition program\, followed by a full-length concert by Patti LaBelle\, the iconic Godmother of Soul. Celebrated for her powerhouse vocals and timeless elegance\, LaBelle returns to the DAR Constitution Hall stage—where she has performed many times throughout her remarkable 65-year career—to help us celebrate America’s 250th birthday. \nEvent Time: 7:00 – 9:00 PM \nTickets: Purchase tickets through Ticketmaster HERE
URL:https://kstreetmagazine.com/event/dar-celebrates-america-250-a-salute-to-women-veterans-featuring-patti-labelle/
LOCATION:DAR Constitution Hall\, 18th & C Streets NW\, Washington\, DC\, 20006
CATEGORIES:Music/Concert
END:VEVENT
BEGIN:VEVENT
DTSTART;TZID=UTC:20260422T173000
DTEND;TZID=UTC:20260422T210000
DTSTAMP:20260421T194401
CREATED:20260413T011849Z
LAST-MODIFIED:20260413T011849Z
UID:61923-1776879000-1776891600@kstreetmagazine.com
SUMMARY:Park Hyatt Masters of Food & Wine Dinner
DESCRIPTION:Park Hyatt Washington\, D.C. will host a Park Hyatt Masters of Food & Wine\, a seasonal culinary & beverage experience on Wednesday\, April 22\, with the Marine Stewardship Council (MSC) in celebration of Earth Day and sustainable wild seafood. This seasonal culinary series salutes the local ingredients and flavors with a one-of-a-kind experience for guests in attendance. The evening will begin with a cocktail reception\, followed by a four-course sustainable seafood feast presented by Park Hyatt Washington\, D.C.’s Director of Culinary and Food & Beverage Jean-Claude Plihon and Blue Duck Tavern Chef de Cuisine Andrew Cleverdon. Each course will reflect the seasonal\, ingredient-driven philosophy of Blue Duck Tavern while honoring fisheries that support healthy marine ecosystems for future generations. For the perfect pairing\, guests will also enjoy thoughtfully selected wines to help complement the menu and enhance the natural character of each dish. \nThis special dinner brings together the environmental sustainability values of the MSC with the culinary expertise of Blue Duck Tavern\, offering guests an opportunity to explore how sustainable sourcing and refined technique can shape a memorable evening. Together\, the menu and wines create a dialogue between sustainability\, craftsmanship\, and the flavors of the sea. Tickets are priced at $250 per person\, excluding tax and gratuity. Advanced reservations are required. The complete menu is listed below. \n  \nApril 22 Masters of Food & Wine Dinner Menu \n\nReception Snacks \n  \nCured Fluke\, Verjus\, Candied Kumquats\, Mustard Seed\, and Trout Roe \nTuna Crudo and White Sturgeon Caviar \nHaddock Fishcakes and Green Goddess \nTelmont Champagne NV\, Reserve De la Terre\, France (Organic) \nChâteau Les Arromans\, Entre-deux-Mers\, Sauv Blanc/Sauv Gris. Bordeaux (Organic) \n\nFirst Course \n\nScallops\, Blue Crab-Uni Custard and Benne \nPouilly-Fumé\, Jean-Max Roger\, “Les Alouettes\,” Loire Valley\, France (Organic) \n\nSecond Course \n\nSablefish\, Dashi\, Spruce\, Smoked Shoyu and Peas \nRiesling\, Zind-humbrecht\, Roche Calcaire\, France (Organic) \n\nThird Course \n\nHalibut\, Smoked Potato\, Lovage\, Parsley and Caviar \nChardonnay\, Soliste\, “L’Age d’Or\,” Russian River Valley\, CA (Organic) \nForth Course \n\nStrawberries\, Vanilla\, Rhubarb and Spirulina \nCharles Orban rose\, Troissy\, Champagne\, France (Organic) \n\nMignardises \n  \nWHERE:       Blue Duck Tavern \n1201 24th Street\, NW \nWashington\, DC 20037 \n  \nWHEN:     Wednesday\, April 22\, 2026\, reception\, from 5:30 p.m. to 7 p.m. and dinner\, from 6:15 p.m. to 9 p.m. \n  \nHOW:            Tickets are available for purchase through SevenRooms at: https://www.sevenrooms.com/experiences/blueducktavernhyatt/masters-of-food-wine-an-evening-with-the-marine-stewardship-council-6263702296248320. Seating is limited for this one-of-a-kind event\, and advance reservations are required.
URL:https://kstreetmagazine.com/event/park-hyatt-masters-of-food-wine-dinner/
LOCATION:Park Hyatt Washington\,  1201 24th Street\, NW\, Washington\, DC\, 20037\, United States
CATEGORIES:Foodie
END:VEVENT
BEGIN:VEVENT
DTSTART;TZID=UTC:20260425T110000
DTEND;TZID=UTC:20260425T170000
DTSTAMP:20260421T194401
CREATED:20260325T115601Z
LAST-MODIFIED:20260325T115601Z
UID:61795-1777114800-1777136400@kstreetmagazine.com
SUMMARY:Living Earth Festival: Always Becoming
DESCRIPTION:Living Earth Festival: Always Becoming \nSaturday and Sunday\, April 25–26\, 11 AM–5 PM \nFree | National Mall \n\nCelebrate the transformational power of clay and the evolution of the museum’s iconic outdoor sculpture installation\, Always Becoming\, by Nora Naranjo Morse (Kha’p’o Owingeh [Santa Clara Pueblo]\, b. 1953). Join the National Museum of the American Indian for a weekend of stories\, artist demonstrations\, hands-on activities\, performances and more centered on the relationship between art and the earth. \nURL: https://americanindian.si.edu/events/?trumbaEmbed=view%3Dseries%26seriesid%3D1833045
URL:https://kstreetmagazine.com/event/living-earth-festival-always-becoming/
LOCATION:Smithsonian’s National Museum of the American Indian\, 4th St SW\, Washington\, DC\, 20560
CATEGORIES:Cultural,Other Entertainment
END:VEVENT
BEGIN:VEVENT
DTSTART;TZID=UTC:20260426T110000
DTEND;TZID=UTC:20260426T170000
DTSTAMP:20260421T194401
CREATED:20260325T115723Z
LAST-MODIFIED:20260325T115723Z
UID:61797-1777201200-1777222800@kstreetmagazine.com
SUMMARY:Living Earth Festival: Always Becoming
DESCRIPTION:Living Earth Festival: Always Becoming \nSaturday and Sunday\, April 25–26\, 11 AM–5 PM \nFree | National Mall \n\nCelebrate the transformational power of clay and the evolution of the museum’s iconic outdoor sculpture installation\, Always Becoming\, by Nora Naranjo Morse (Kha’p’o Owingeh [Santa Clara Pueblo]\, b. 1953). Join the National Museum of the American Indian for a weekend of stories\, artist demonstrations\, hands-on activities\, performances and more centered on the relationship between art and the earth. \nURL: https://americanindian.si.edu/events/?trumbaEmbed=view%3Dseries%26seriesid%3D1833045
URL:https://kstreetmagazine.com/event/living-earth-festival-always-becoming-2/
LOCATION:Smithsonian’s National Museum of the American Indian\, 4th St SW\, Washington\, DC\, 20560
CATEGORIES:Cultural,Other Entertainment
END:VEVENT
BEGIN:VEVENT
DTSTART;TZID=UTC:20260429T173000
DTEND;TZID=UTC:20260429T200000
DTSTAMP:20260421T194401
CREATED:20260208T022256Z
LAST-MODIFIED:20260208T022256Z
UID:61579-1777483800-1777492800@kstreetmagazine.com
SUMMARY:Jazz on the Lunar Lawn | Amy K. Bormet Presents “Time Travel”
DESCRIPTION:Jazz on the Lunar Lawn | Amy K. Bormet Presents “Time Travel”\nWednesday\, April 29\, 2026\, 5:30-8 p.m.\nJoin Amy K. Bormet for an evening outdoor concert\, “Time Travel\,” inspired by the special exhibition On Time: Giving Form to the Fleeting. The concert will feature classic songs and fresh new pieces about the passing of time\, and understanding how it’s measured through music.\nwww.HillwoodMuseum.org \n4155 Linnean Avenue\, NW\, Washington\, DC 20008
URL:https://kstreetmagazine.com/event/jazz-on-the-lunar-lawn-amy-k-bormet-presents-time-travel/
LOCATION:Hillwood Museum & Gardens\, 4155 Linnean Avenue\, NW\, Washington\, DC\, 20008
CATEGORIES:Music/Concert
END:VEVENT
BEGIN:VEVENT
DTSTART;TZID=UTC:20260429T173000
DTEND;TZID=UTC:20260429T200000
DTSTAMP:20260421T194401
CREATED:20260412T205515Z
LAST-MODIFIED:20260412T205515Z
UID:61915-1777483800-1777492800@kstreetmagazine.com
SUMMARY:Jazz on the Lunar Lawn @ Hillwood
DESCRIPTION:Join Amy K. Bormet for an outdoor concert in Hillwood’s gardens\, inspired by the special exhibition On Time: Giving Form to the Fleeting. Enjoy classic songs and fresh new pieces about the passing of time and how it’s measured through music\, by jazz musicians from the D.C. area. \nWednesday\, April 29\, 2026\n5:30-8 p.m.\n(Concert begins at 6:30 p.m.)
URL:https://kstreetmagazine.com/event/jazz-on-the-lunar-lawn-hillwood/
LOCATION:Hillwood Museum & Gardens\, 4155 Linnean Avenue\, NW\, Washington\, DC\, 20008
CATEGORIES:Music/Concert
END:VEVENT
BEGIN:VEVENT
DTSTART;TZID=UTC:20260502T150000
DTEND;TZID=UTC:20260502T200000
DTSTAMP:20260421T194401
CREATED:20260418T105923Z
LAST-MODIFIED:20260418T105923Z
UID:61950-1777734000-1777752000@kstreetmagazine.com
SUMMARY:4th Annual Derby Day Viewing Party
DESCRIPTION:Almost like watching from Churchill Downs\, Jack Rose Dining Saloon will once again be Washington\, DC’s premiere destination for Kentucky Derby festivities on Saturday\, May 2 from 3 pm to 8 pm On the sunny rooftop terrace and whiskey-surrounded indoor Saloon\, guests and race fanatics are invited to don their finest derby attire at the bar’s 14th Annual Kentucky Derby Celebration + Viewing Party\, complete with mint juleps\, Southern bites\, plenty of Kentucky bourbon\, and a live viewing of the 2026 Run for the Roses. \nCommemorating “the greatest two minutes in sports\,” Jack Rose will host its 14th Annual Derby Day Viewing Party on two levels: its first-come\, first-served open-air Rooftop Terrace and ticketed reserved seating in its spacious indoor Saloon\, surrounded by thousands of bottles of whiskey. \nThe rooftop terrace will open early at 3pm\, with the Saloon bar opening at 4pm\, and both floors will offer an a la carte menu of classic Mint Juleps made with Maker’s Mark\, and with Cinco de Mayo around the corner\, a “Cinco de Derby” themed cocktail menu of agave and bourbon-based cocktails. \nSaloon table reservations are available starting at 5pm for $49/person (excluding tax & gratuity) which includes: \n\ntwo-hour indoor reserved seating with direct views of the race on an extra-large projector screen with sound\nexclusive access to a pop-up Maker’s Mark cellar tasting room (featuring complimentary tastings from 3-6pm)\na round of Maker’s Mark Classic Juleps\na Derby Platter for the table (with themed hors d’oeuvres such as mini Hot Browns\, deviled eggs & cucumber tea sandwiches + more)\n\nTicketed Saloon reservations are available via Resy\, for seatings between 5-6pm. \nAnd the bar’s Rooftop Terrace will also play host to a walk-ins-only viewing party\, airing the Derby on four flat-screen TVs with sound. Guests can order bites from the rooftop grill\, while the same drink specials will be available. The Terrace party is free to attend\, first-come first-served\, with table and bar seating and standing room available. Guests are encouraged to don their Derby best – bow ties\, seersucker\, and big hats! \nSaturday also happens to be Adams Morgan Porchfest\, and wristband-holders can enjoy $12 Derby Day cocktails. \nWHO:              Jack Rose Dining Saloon \nWHEN:            Saturday\, May 2\, 2026 \n3pm-8pm \n  \nWHERE:           Jack Rose Dining Saloon \n2007 18th Street NW \nWashington\, DC 20009
URL:https://kstreetmagazine.com/event/4th-annual-derby-day-viewing-party/
LOCATION:Jack Rose Dining Saloon\, 2007 18th Street NW\, Washington\, DC\, 20009
CATEGORIES:Sports
END:VEVENT
BEGIN:VEVENT
DTSTART;TZID=UTC:20260503T100000
DTEND;TZID=UTC:20260503T160000
DTSTAMP:20260421T194401
CREATED:20260413T012453Z
LAST-MODIFIED:20260413T012453Z
UID:61927-1777802400-1777824000@kstreetmagazine.com
SUMMARY:NMWA Makers' Market
DESCRIPTION:Makers’ Market\nSunday\, May 3\, 10 a.m.–4 p.m.\nJoin us for a unique pop-up market. Co-curated by NMWA and SAMASAMA\, a collective dedicated to celebrating diasporic narratives through art\, the market will feature a lineup of women and gender-expansive makers\, artists and vendors offering handmade jewelry\, art\, ceramics and vintage finds. The Makers’ Market takes place during a Free Community Day\, so guests can easily continue on to the galleries for further inspiration\, take a tour\, or make art during Open Studio. Free. Reservations not required.
URL:https://kstreetmagazine.com/event/nmwa-makers-market/
LOCATION:National Museum of Women in the Arts\, 1250 New York Ave.\, NW\, Washington\, DC\, 20005
CATEGORIES:Arts/Theatre,Shopping
END:VEVENT
BEGIN:VEVENT
DTSTART;TZID=UTC:20260517T113000
DTEND;TZID=UTC:20260517T130000
DTSTAMP:20260421T194401
CREATED:20260412T162740Z
LAST-MODIFIED:20260412T162740Z
UID:61903-1779017400-1779022800@kstreetmagazine.com
SUMMARY:Uncle Nearest Whiskey Brunch
DESCRIPTION:Fairmont Washington\, D.C.\, Georgetown has announced its annual brunch with Uncle Nearest Premium Whiskey* taking place on Sunday\, May 17 beginning at 11:30am.  The captivating Victoria Eady Butler\, Uncle Nearest Master Blender and great\, great granddaughter of Nearest Green\, will present whiskey flights. Executive Chef Jaime Montes de Oca and Executive Pastry Chef Lyndsey Barton  will prepare a three-course culinary feast. \n Upon arrival in the courtyard\, guests will be treated to an Uncle Nearest Grown Folk Mimosa.  At 12:15\, all will be seated to enjoy brunch paired with cocktails created by Uncle Nearest Mixologist Akinde. \n The brunch menu includes: \nBread Basket with Whipped Rooftop Honey Butter \nTruffle Parker House Rolls\, Cornbread\, Cheddar Jalapeno Biscuit \n  \nFirst Course: \n1884 & Smoked Avocado Tartine \nCountry Bread\, Farm Egg\, Radish\, Micro Sprouts paired with an \nUncle Nearest Cocktail \n  \nSecond Course: \nMaryland Crab Cake and \nBlack Angus Short Rib \nNew Potato Hash\, Grilled Asparagus\, 1956 Grain Mustard Butter paired with an \nUncle Nearest Cocktail \n  \nDessert: \nCoconut Plant Pot \nUncle Nearest Soaked Chocolate Cake – Caramel Creamux\, Cocoa Crumble \nMatcha Bread Stick – Nearest Green Whiskey Chocolate Sauce \nUncle Nearest Flight – Including Fairmont’s Own Single Barrell \n  \nFairmont’s Brunch with Uncle Nearest Premium Whiskey is $99 per person including all of the above\,  tax and gratuity or $219 with a bottle of Fairmont’s own Uncle Nearest Single Barrel.  Additional cocktails and cigars will also be available for purchase.  For reservations\, please visit \nTicket Spice. \n\n*Uncle Nearest is the pioneer spirits brand to bear the name of a Black American. The brand’s portfolio boasts the Most Awarded Straight Bourbon and Tennessee Whiskey titles for the years 2019\, 2020\, 2021\, 2022\, 2023\, and 2024\, amassing over 1\,450 awards and accolades since its launch in 2017. The Nearest Green Distillery in Shelbyville\, Tennessee is now the seventh most visited distillery in the world. . https://unclenearest.com/
URL:https://kstreetmagazine.com/event/uncle-nearest-whiskey-brunch/
LOCATION:Fairmont Hotel – Washington DC\, 2401 M Street NW\, Washington\, DC\, 20037\, United States
CATEGORIES:Foodie
END:VEVENT
BEGIN:VEVENT
DTSTART;TZID=UTC:20260519T193000
DTEND;TZID=UTC:20260519T203000
DTSTAMP:20260421T194401
CREATED:20250814T022903Z
LAST-MODIFIED:20250814T022903Z
UID:60867-1779219000-1779222600@kstreetmagazine.com
SUMMARY:The O.B. Hardison Poetry Series Finale Reading
DESCRIPTION:The O.B. Hardison Poetry Series Finale Reading\nMay 19\, 2026\, at 7:30pm\n \nThe Poetry season concludes with a finale reading by a poet chosen by a group of Folger Poetry supporters. The evening’s honored guest will read from the work of other poets cited as their literary influences as well as from their own work. Previous poets invited for this finale reading include Ellen Bass\, Billy Collins\, Carolyn Forché\, and Jane Hirshfield. The reading will be followed by a book signing in the Great Hall.
URL:https://kstreetmagazine.com/event/the-o-b-hardison-poetry-series-finale-reading/
LOCATION:Folger Shakespeare Library\, 201 E Capital Street NE\, Washington\, DC\, DC\, 20002
CATEGORIES:Arts/Theatre,Book/Author
END:VEVENT
BEGIN:VEVENT
DTSTART;TZID=UTC:20260520T173000
DTEND;TZID=UTC:20260520T200000
DTSTAMP:20260421T194401
CREATED:20260413T012640Z
LAST-MODIFIED:20260413T012640Z
UID:61929-1779298200-1779307200@kstreetmagazine.com
SUMMARY:National Museum of Women in the Arts After Hours
DESCRIPTION:NMWA Nights—May\nWednesday\, May 20\, 5:30–8 p.m.\nJoin us on the third Wednesday evening of each month for a creative and engaging after-hours experience.  Peruse the galleries\, grab a cocktail\, listen to a performance\, attend a tour\, or participate in art-making activities. Two drink tickets are included with admission; additional beverages and food are available for purchase. Tickets go on sale on May 6.
URL:https://kstreetmagazine.com/event/national-museum-of-women-in-the-arts-after-hours-2/
LOCATION:National Museum of Women in the Arts\, 1250 New York Ave.\, NW\, Washington\, DC\, 20005
CATEGORIES:Arts/Theatre,Other Entertainment
END:VEVENT
BEGIN:VEVENT
DTSTART;VALUE=DATE:20260530
DTEND;VALUE=DATE:20260531
DTSTAMP:20260421T194401
CREATED:20260201T200139Z
LAST-MODIFIED:20260201T200139Z
UID:61559-1780099200-1780185599@kstreetmagazine.com
SUMMARY:Armed Forces Cycling Classic 
DESCRIPTION:The Amazon Armed Forces Cycling Classic is set to return May 30–31\, 2026. \nThe weekend will once again feature the Amazon Armed Forces Cycling Classic’s Challenge Ride on Saturday morning\, May 30. This 20km closed course welcomes cycling enthusiasts of all skill levels and encourages participants to complete as many laps as possible during the three-hour event. Riders will start and finish in the nation’s capital\, pedaling against the backdrop of Washington\, D.C. and Arlington’s most recognizable sights. Participants can aim for gold\, silver\, or bronze medals\, awarded based on the number of laps completed. \nThe weekend’s activities also include two days of racing featuring many of the nation’s top Pro/Am men’s and women’s cycling teams. Saturday’s race will be held on a short\, spectator-friendly course in D.C.\, utilizing the same start/finish area as the Challenge Ride. On Sunday\, the racing moves to Arlington\, Virginia for the 28th edition of the storied Clarendon Cup Pro/Am bike races. \nThe Amazon Armed Forces Cycling Classic Pro/Am races are recognized internationally\, with national champions and elite athletes participating from around the world. \nThe Amazon Armed Forces Cycling Classic weekend’s activities offer riders and cycling fans alike plenty of exciting opportunities to participate. To obtain information on registration\, volunteer opportunities; or how to become a sponsor; or learn how you can witness the fast-paced action of professional cycling in the Washington\, DC region\, visit cyclingclassic.org. \n  \nEVENT DETAILS \nWhat: Armed Forces Cycling Classic \nWhen: May 30-31\, 2026 \nWhere: Washington\, DC & Arlington\, VA (Clarendon) \nTime: \nWebsite: www.cyclingclassic.org \nChallenge Ride Cost: $120 \nSpectating: FREE \nWeather Plan: Rain or shine
URL:https://kstreetmagazine.com/event/armed-forces-cycling-classic-6/
LOCATION:DC
CATEGORIES:Sports
END:VEVENT
BEGIN:VEVENT
DTSTART;TZID=UTC:20260531T100000
DTEND;TZID=UTC:20260531T160000
DTSTAMP:20260421T194401
CREATED:20250510T185958Z
LAST-MODIFIED:20250517T030014Z
UID:60427-1780221600-1780243200@kstreetmagazine.com
SUMMARY:Four Nations Cup
DESCRIPTION:The Four Nations Cup is a NEW premier international polo tournament celebrating global excellence\, tradition\, and community spirit. \nOn May 31\, 2026\, teams from the United States\, United Kingdom\, India\, and Pakistan will compete in a spectacular day of sport at Great Meadow in The Plains\, Virginia. Guests will enjoy thrilling polo finals\, immersive cultural pavilions\, gourmet hospitality and upscale fieldside tailgating—all set against the iconic background of Great Meadow’s rolling green hills. \nQuick Details: \n\nDate: May 31\, 2026\nVenue: Great Meadow\, The Plains\, VA\nInfo: www.fournationscup.com
URL:https://kstreetmagazine.com/event/four-nations-cup/
LOCATION:Great Meadow\, 5089 Old Tavern Road\, The Plains\, VA\, 20198
CATEGORIES:Sports
END:VEVENT
BEGIN:VEVENT
DTSTART;TZID=UTC:20260609T193000
DTEND;TZID=UTC:20260609T220000
DTSTAMP:20260421T194401
CREATED:20260225T033126Z
LAST-MODIFIED:20260225T033126Z
UID:61694-1781033400-1781042400@kstreetmagazine.com
SUMMARY:Songwriters Celebrate John Prine 
DESCRIPTION:Wolf Trap Foundation for the Performing Arts presents Songwriters Celebrate John Prine on June 9\, a special concert celebrating the life and legacy of the famed American singer/songwriter. Produced by Wolf Trap Foundation with the Prine Family and the Hello In There Foundation\, this creative collaboration celebrates John Prine’s legacy through the artists inspired by his enduring influence and who continue to shape American songwriting. \nThe lineup features Prine friends and collaborators\, including Emmylou Harris\, Margo Price\, Patty Griffin\, I’m With Her\, Lucius\, Allison Russell\, Hayes Carll\, Jobi Riccio\, Fancy Hagood\, and John’s youngest son Tommy Prine\, all backed by John Prine’s own band. \n“John Prine’s songs are woven into the fabric of America with a songwriting legacy now spanning more than five decades. We are so honored to celebrate his legacy at Wolf Trap—a venue where he loved to perform\, and one that has championed folk and American music for generations\,” said the Prine Family. “This concert brings together artists who carry forward John’s gift for storytelling\, in the same spirit that defined John’s work. We’re thrilled to mark America’s 250th anniversary by honoring the songbook that has shaped our national soundtrack.” \n“John wasn’t just a great artist and a great songwriter—he was a great human. He modeled care and compassion and community building in everything he did. He adored his family and he made everybody feel a part of it\,” said Allison Russell. \nThis one-night-only event will feature artists performing beloved John Prine songs\, alongside songs he championed\, collaborated on\, and influenced—all culminating in a group finale. \n“I had the honor of working with John quite a few times. He was a master at so many things. One of my favorite things about him was his warmth and ease with an audience. I find myself often referencing back to that and his graciousness\,” said singer/songwriter Patty Griffin. \n“John Prine’s music embodies the spirit of American songwriting\, and as we mark America’s 250th anniversary\, this program will honor the voices that continue to shape American culture\,” said Sara Beesley\, Vice President of Programming and Production\, Wolf Trap Foundation. “Having performed at Wolf Trap 19 times\, John was deeply connected to this place\, and Wolf Trap to him. Today\, we continue to be home to songwriters inspired by his example.” \nWolf Trap is proud to partner with the Hello In There Foundation—an initiative established by the family of John Prine\, to honor his memory and continue the love\, kindness\, and generosity he shared with the world—to bring this must see one-night-only celebration to the stage. \n \nTicketing and On Sale Information  \n\nTickets may be purchased online at wolftrap.org.\nTicket prices vary by performance and location and are subject to change. See individual performance listings online at Wolf Trap’s website calendar.\nWolf Trap members have access to exclusive presales and may purchase tickets in advance of the general public. For more information on becoming a member\, visit wolftrap.org/membership.\n\n 
URL:https://kstreetmagazine.com/event/songwriters-celebrate-john-prine/
LOCATION:Wolftrap\, 1551 Trap Road\, Vienna\, VA\, 22182
CATEGORIES:Music/Concert
END:VEVENT
BEGIN:VEVENT
DTSTART;TZID=UTC:20261001T180000
DTEND;TZID=UTC:20261001T220000
DTSTAMP:20260421T194401
CREATED:20260325T113650Z
LAST-MODIFIED:20260325T113650Z
UID:61784-1790877600-1790892000@kstreetmagazine.com
SUMMARY:Foundation for American Innovation Gala
DESCRIPTION:Join in for the American Innovation Gala\, a black-tie celebration of the people and ideas shaping the future of the American experiment. Hosted by the Foundation for American Innovation\, this event convenes leaders from technology\, policy\, venture\, and national security—those committed to building not only the tools of tomorrow\, but the institutions capable of guiding them. It’s a celebration of bold innovation and institutional renewal at a moment when America must rise to meet the future. \n\nDate:Thursday\, October 1\, 2026\n\nLocation:Andrew W. Mellon Auditorium\n1301 Constitution Ave. NW\nWashington\, DC 20240
URL:https://kstreetmagazine.com/event/foundation-for-american-innovation-gala/
LOCATION:Mellon Auditorium\, 1301 Constitution Ave. NW\, Washington\, DC\, 20240
CATEGORIES:Gala
END:VEVENT
END:VCALENDAR