BEGIN:VCALENDAR
VERSION:2.0
PRODID:-//K Street Magazine - ECPv6.15.20//NONSGML v1.0//EN
CALSCALE:GREGORIAN
METHOD:PUBLISH
X-WR-CALNAME:K Street Magazine
X-ORIGINAL-URL:https://kstreetmagazine.com
X-WR-CALDESC:Events for K Street Magazine
REFRESH-INTERVAL;VALUE=DURATION:PT1H
X-Robots-Tag:noindex
X-PUBLISHED-TTL:PT1H
BEGIN:VTIMEZONE
TZID:UTC
BEGIN:STANDARD
TZOFFSETFROM:+0000
TZOFFSETTO:+0000
TZNAME:UTC
DTSTART:20230101T000000
END:STANDARD
END:VTIMEZONE
BEGIN:VEVENT
DTSTART;TZID=UTC:20241024T183000
DTEND;TZID=UTC:20241024T220000
DTSTAMP:20260424T172659
CREATED:20241018T133202Z
LAST-MODIFIED:20241018T133202Z
UID:59595-1729794600-1729807200@kstreetmagazine.com
SUMMARY:Washington International Horse Show Barn Night
DESCRIPTION:The 66th Annual Washington International Horse Show (WIHS) returns to the Washington DC area this October at The Show Place Arena\, Prince George’s Equestrian Center (PGEC) in Upper Marlboro\, Maryland.  This prestigious fast-paced and fun event has been an equestrian tradition since 1958\, with more than 500 of the top national and international horses and riders coming together to compete in seven days of thrilling competition\, entertaining exhibitions and special events for the whole family.\n\nThere are many opportunities for coverage throughout the week\, including:\n\n BARN NIGHT: KIND WINS – Thursday\, October 24 (6:30pm) \n\n\nWIHS is excited to introduce the “Kind Wins” initiative that brings an inspiring anti-bullying movement from Sweden to the U.S.\, supported by Friends\, a Swedish anti-bullying organization. With guidance from the WIHS Junior Committee\, “Kind Wins” will be promoting positivity\, good mental health and preventing bullying.\n\n\n\n\nBarn Night celebrates the camaraderie of barns and horse-loving groups with contests and prizes. Full of fun with contests and prizes\, WIHS Barn Night brings groups from local barns and organizations together for an evening of great competition\, exciting exhibitions\, and fun.
URL:https://kstreetmagazine.com/event/washington-international-horse-show-barn-night/
LOCATION:Prince George’s Equestrian Center\, 14900 Pennsylvania Ave.\,\, Upper Marlboro\,\, MD\, 20772
CATEGORIES:Sports
END:VEVENT
BEGIN:VEVENT
DTSTART;TZID=UTC:20241025T183000
DTEND;TZID=UTC:20241025T220000
DTSTAMP:20260424T172659
CREATED:20241018T133416Z
LAST-MODIFIED:20241018T133416Z
UID:59602-1729881000-1729893600@kstreetmagazine.com
SUMMARY:Washington International Horse Show Military Night
DESCRIPTION:The 66th Annual Washington International Horse Show (WIHS) returns to the Washington DC area this October at The Show Place Arena\, Prince George’s Equestrian Center (PGEC) in Upper Marlboro\, Maryland.  This prestigious fast-paced and fun event has been an equestrian tradition since 1958\, with more than 500 of the top national and international horses and riders coming together to compete in seven days of thrilling competition\, entertaining exhibitions and special events for the whole family.\n\nThere are many opportunities for coverage throughout the week\, including:\n\n\nMILITARY NIGHT – Friday\, October 25 (6:30pm)\n\n\n A special night recognizing the service and sacrifice of the U.S Armed Forces. The centerpiece of the evening is a competition with a special American Flag jump\, if cleared raised funds to support the mission of Tragedy Assistance program for Survivors (TAPS)\, a national nonprofit organization providing compassionate care and comprehensive resources for all those grieving the death of a military or veteran loved one.
URL:https://kstreetmagazine.com/event/washington-international-horse-show-military-night/
LOCATION:Prince George’s Equestrian Center\, 14900 Pennsylvania Ave.\,\, Upper Marlboro\,\, MD\, 20772
CATEGORIES:Sports
END:VEVENT
END:VCALENDAR