BEGIN:VCALENDAR
VERSION:2.0
PRODID:-//K Street Magazine - ECPv6.15.20//NONSGML v1.0//EN
CALSCALE:GREGORIAN
METHOD:PUBLISH
X-ORIGINAL-URL:https://kstreetmagazine.com
X-WR-CALDESC:Events for K Street Magazine
REFRESH-INTERVAL;VALUE=DURATION:PT1H
X-Robots-Tag:noindex
X-PUBLISHED-TTL:PT1H
BEGIN:VTIMEZONE
TZID:UTC
BEGIN:STANDARD
TZOFFSETFROM:+0000
TZOFFSETTO:+0000
TZNAME:UTC
DTSTART:20250101T000000
END:STANDARD
END:VTIMEZONE
BEGIN:VEVENT
DTSTART;TZID=UTC:20260328T120000
DTEND;TZID=UTC:20260328T200000
DTSTAMP:20260421T113510
CREATED:20260325T113321Z
LAST-MODIFIED:20260325T113321Z
UID:61782-1774699200-1774728000@kstreetmagazine.com
SUMMARY:Bloomaroo @ The Wharf
DESCRIPTION:Bloomaroo: On Saturday\, March 28\, right in the sweet spot of peak bloom\, The Wharf will transform into a cherry blossom wonderland featuring family-friendly activities (including crafts\, a haiku creation station\, face painting\, balloon animals\, and more)\, live music performances on multiple stages\, cherry blossom-inspired cocktails with TYKU Sake at participating Wharf restaurants or at the festival’s Blossom Bars\, and blossom-themed fireworks over the Washington Channel to end the night. \n🌸 Activities & Fireworks:\n12pm-4pm — United Healthcare Social Harvest Community Day in Market Square\n2pm-9pm — Listen to live music on multiple stages\n2pm-6pm — Family fun activities throughout The Wharf\n8pm — A Blossom Fireworks Show \n🌸 Performance Lineup:\nCatch a variety of performances all day long on our Piers. Please note\, the lineup is subject to change. \nHeadline Stage on District Pier\n🌸 Perfekt Blend\n🌸 Pink PaLiSh \n🌸 The Julia Her Band\n🌸 Cat 5 \nM Street Landing Stage\n🌸 Rocknoceros\n🌸 City Sing And Play\n🌸 Jimi Smooth & HitTime \nThe Grove Stage\n🌸 DC Judo\n🌸 Umami House Band\n🌸 DMV Sumo\n🌸 DJ Les Talusan \nMarket Pier Stage\n🌸 DJ Troy\n🌸 Too Much Talent Band \n🌸 Wellness Activites\nJoin United Healthcare in collaboration with Hillcrest Children & Family Center for the Social Harvest Community Activities. \nFrom 12-4 p.m.\, enjoy health and wellness displays featuring a cooking demo from award-winning celebrity chef Huda Mu’min\, fitness demonstrations\, health education exhibits\, and complimentary fresh produce distribution from local farmers. Stop by Market Square for family friendly activities such as giveaways and raffles\, face painting\, video games\, a photobooth\, free popcorn\, a DJ\, line dancing and much more.
URL:https://kstreetmagazine.com/event/bloomaroo-the-wharf/
LOCATION:District Pier @ The Wharf\, 101 District Square SW\,\, Washington\, DC\, 20024
CATEGORIES:Music/Concert,Other Entertainment
END:VEVENT
BEGIN:VEVENT
DTSTART;TZID=UTC:20260328T170000
DTEND;TZID=UTC:20260328T210000
DTSTAMP:20260421T113510
CREATED:20260325T114336Z
LAST-MODIFIED:20260325T114336Z
UID:61787-1774717200-1774731600@kstreetmagazine.com
SUMMARY:Inaugural Doyle Spirits Festival
DESCRIPTION:The inaugural Doyle Spirits Festival will bring together 15 leading and emerging Irish distillers for a walk-around tasting\, celebrating Ireland’s rich whiskey and spirits tradition. Guests can enjoy cocktails and sample expressions from renowned producers including Redbreast\, Dingle\, Jameson\, Teeling\, Green Spot\, Powers\, Roe & Co\, Slane\, Tullamore D.E.W.\, Boatyard Gin\, Wilde Irish Gin and Skellig\, alongside Irish-inspired bites. \nThroughout the evening\, guided tastings will highlight both traditional and modern distilling techniques\, from classic Single Pot Still whiskey to coastal botanical gins. Guests will sip their way across Ireland’s regions while enjoying cultural programming including live musical performances curated in partnership with the Embassy of Ireland. \nAttendees can also participate in an interactive Irish language mini-session led by Vivienne Sayers\, introducing must-know phrases and offering a fun\, cultural primer for future travel to Ireland. \nWHEN:\nSaturday\, March 28\nTimed entry sessions at 5 p.m. and 7:30 p.m. \nWHERE:\nThe Dupont Circle Hotel\n1500 New Hampshire Ave NW\nWashington\, DC \nTICKETS:\nTickets are available for purchase HERE.
URL:https://kstreetmagazine.com/event/inaugural-doyle-spirits-festival/
LOCATION:Dupont Circle Hotel\, 1500 New Hampshire Ave NW\, Washington\, DC
CATEGORIES:Cultural,Other Entertainment
END:VEVENT
BEGIN:VEVENT
DTSTART;TZID=UTC:20260329T120000
DTEND;TZID=UTC:20260329T160000
DTSTAMP:20260421T113510
CREATED:20260325T124009Z
LAST-MODIFIED:20260325T124009Z
UID:61809-1774785600-1774800000@kstreetmagazine.com
SUMMARY:Blossom Bash – Center in Bloom @ Tysons
DESCRIPTION:Blossom Bash – Center in Bloom\nMarch 29\, 2026 | 12–4 PM Tysons Corner Center\nThis spring\, Tysons Corner Center transforms into Center in Bloom (March 20–April 17)\, a vibrant celebration of the season. \nThe signature event\, Blossom Bash\, invites guests to experience an afternoon of creativity and community featuring: \n\n\nInteractive activations from 40+ retailers \n\n\nLive chalk art by 20 local artists \n\n\nSeasonal food and beverage specials \n\n\nLive music throughout the center \n\n\nSpecial appearances by festival parade talent \n\n\nGiveaways and pop-up surprises \n\n\nThis event is free and open to all ages. For more information\, visit: tysonscornercenter.co
URL:https://kstreetmagazine.com/event/blossom-bash-center-in-bloom-tysons/
LOCATION:Tysons Corner Center
CATEGORIES:Health/Wellness,Music/Concert,Other Entertainment
END:VEVENT
BEGIN:VEVENT
DTSTART;TZID=UTC:20260331T183000
DTEND;TZID=UTC:20260331T193000
DTSTAMP:20260421T113510
CREATED:20260305T133623Z
LAST-MODIFIED:20260305T133623Z
UID:61714-1774981800-1774985400@kstreetmagazine.com
SUMMARY:An Antiquarian Horologist on Mechanism\, Risk\, & Wonder
DESCRIPTION:Brittany Cox: An Antiquarian Horologist on Mechanism\, Risk\, & Wonder\n\n\nThis is the third and final program in the On Time: Giving Form to the Fleeting exhibition lecture series.\nAntiquarian Horologist Brittany Nicole Cox traces the origins of her craft across time and objects\, tools and stories. \nThis talk delves into a chronology of subjects that have profoundly influenced the objects the artist has created and worked on throughout her career. The context in which these objects were made fostered a unique archetypal knowledge that has shaped various crafts. For instance\, the ornamental turning of kings led to the development of engine turning or guilloche\, a style primarily employed by craftsmen on a diverse range of objects\, including horological ones. Similarly\, the invention of automata by the Greeks for entertainment and pleasure eventually found their way into scenes of wonder or spectacle. This evolution led to the emergence of technologies that paved the way for the first programmable computers and later contributed to the development of mechanical detonators in bombs and timers for space exploration. This rich history is intertwined with profound philosophical insights into humankind’s vulnerabilities and nature. As a historian\, Cox aims to illuminate this knowledge\, as a conservator\, she strives to protect the objects born from it\, and as an artist\, she aspires to resurrect and share this heritage. \n \nHYBRID PROGRAM\nThis lecture will be presented in the theater in the Ellen MacNeille Charles Visitor Center and will be livestreamed via Zoom. Visitors can submit questions for the speaker from any location. \nIN-PERSON TIMELINE\n5:30–6:30 p.m. | Explore Hillwood \n\nEnjoy Hillwood’s mansion\, gardens\,  greenhouse\, and exhibition\, On Time: Giving Form to the Fleeting\, on view in the dacha\nFind the perfect memento from your visit at the museum shop.\n\n6:30–7:30 p.m. | Lecture
URL:https://kstreetmagazine.com/event/antiquarian-horologist/
LOCATION:Hillwood Museum & Gardens\, 4155 Linnean Avenue\, NW\, Washington\, DC\, 20008
CATEGORIES:Other Entertainment
END:VEVENT
BEGIN:VEVENT
DTSTART;TZID=UTC:20260412T080000
DTEND;TZID=UTC:20260412T170000
DTSTAMP:20260421T113510
CREATED:20260412T225426Z
LAST-MODIFIED:20260412T225426Z
UID:61917-1775980800-1776013200@kstreetmagazine.com
SUMMARY:Banned Books Speakeasy
DESCRIPTION:For its third edition\, The Study at Morrison House once again invites you into its best-kept secret… \nOur shelves are filling back up—and so is our cocktail menu—with banned books that have sparked conversation for generations. As a haven for storytelling\, we continue to celebrate the power of the written word while giving back to the libraries that keep these stories alive. \nWhat began as a hidden escape for literary lovers has quickly become a favorite tradition. We’re opening the door once more to our intimate\, book-lined speakeasy—where forbidden stories inspire every sip. \n\n\n\n\n\n\n\n\n\n\n\n\n\n\n\n\n\n\n\n\n\n\n\n\n\n\n\n\n\n\n\n\n\n\n\n\n\n\n\n\n\n\n\n\n\n\n\n\n\n\n\n\n\n\n\n\n\n\n\n\n\n\n\n\n\n\n\n\n\n\n\n\n\n\n\n\n\n\n\n\n\n\n\n\n\n\n\nRESERVE A TIMED ENTRY TICKET \n\n\n\n\n\n\n\n\n\n\n\n\n\n\n\n\n\n\n\n\n\nAll curious readers must secure a timed entry ticket —your key to meeting our librarian and slipping into our hidden world of forbidden tales. Directions on where to find our secret door and librarian will be texted the week of the event. Once you’ve gained access\, you can read\, mingle\, and sip for as long as you’d like. \n\n\n\n\n\n\n\n\n\nRESERVE A TICKET\n\n\n\n\n\n\n\n\n\n\n\n\n\n\n\n\n\n\n\n\n\n\n\n\n\n\n\n\n\n\n\n\n\n\n\n\n\n\n\n\n\n\n\n\n\n\n\n\n\n\n\n\n\n\n\n\n\n\n\n\n\n\n\n\n\n\n\n\n\n\n\n\n\n\n\n\n\n\n\n\n\n\n\n\n\n\nSUPPORTING LOCAL LIBRARIES \n\n\n\n\n\n\n\n\n\n\n\n\n\n\n\n\n\n\n\n\n\nYour $2 timed entry ticket is donated fully to the Virginia Library Association in support of local libraries and librarians. Last year\, the event was able to raise almost $4\,500! If you’re interested in additional donations\, you can support the Virginia Library Association’s Librarian of Color Forum Award\, LGBTQIA+ Forum Fund\, Scholarship Fund\, and more! \n\n\n\n\n\n\n\n\n\nDONATE TO THE VLA\n\n\n\n\n\n\n\n\n\n\n\n\n\n\n\n\n\n\n\n\n\n\n\n\n\n\n\n\n\n\n\n\n\n\n\n\n\n\n\n\n\n\n\n\n\n\n\n\n\n\n\n\n\n\n\n\n\n\n\n\nThis season\, Morrison House reimagined its menu with a new collection of cocktails\, each influenced by some of the most iconic—and challenged—books in the U.S. Curious which made the list? You’ll have to step inside to find out. Explore beyond the books and cocktails with a limited food menu featuring some of our favorites from The Study’s restaurant menu.
URL:https://kstreetmagazine.com/event/banned-books-speakeasy/
LOCATION:Morrison House\, 116 S Alfred St\, Alexandria\, VA\, 22314
CATEGORIES:Charitable Event,Other Entertainment
END:VEVENT
BEGIN:VEVENT
DTSTART;TZID=UTC:20260415T173000
DTEND;TZID=UTC:20260415T200000
DTSTAMP:20260421T113510
CREATED:20260413T012302Z
LAST-MODIFIED:20260413T012302Z
UID:61925-1776274200-1776283200@kstreetmagazine.com
SUMMARY:National Museum of Women in the Arts After Hours
DESCRIPTION:NMWA Nights—April\nWednesday\, April 15\, 5:30–8 p.m.\nExperience Earth Day at NMWA with a sustainable fashion show in the Great Hall as part of the museum’s monthly after-hours experience. Peruse the galleries\, grab a cocktail\, listen to a performance\, attend a tour or participate in art-making activities.
URL:https://kstreetmagazine.com/event/national-museum-of-women-in-the-arts-after-hours/
LOCATION:National Museum of Women in the Arts\, 1250 New York Ave.\, NW\, Washington\, DC\, 20005
CATEGORIES:Arts/Theatre,Other Entertainment
END:VEVENT
BEGIN:VEVENT
DTSTART;TZID=UTC:20260416T173000
DTEND;TZID=UTC:20260416T203000
DTSTAMP:20260421T113510
CREATED:20260208T022134Z
LAST-MODIFIED:20260208T022134Z
UID:61577-1776360600-1776371400@kstreetmagazine.com
SUMMARY:Trivia Night at Hillwood
DESCRIPTION:Trivia Night | The Art of Time\nThursday\, April 16\, 2026\, 5:30-8:30 p.m.\nCelebrate milestones and artwork of the past\, present\, and future with a fun and enlightening evening of trivia at Hillwood!\nwww.HillwoodMuseum.org \n4155 Linnean Avenue\, NW\, Washington\, DC 20008
URL:https://kstreetmagazine.com/event/trivia-night-at-hillwood/
LOCATION:Hillwood Museum & Gardens\, 4155 Linnean Avenue\, NW\, Washington\, DC\, 20008
CATEGORIES:Other Entertainment
END:VEVENT
BEGIN:VEVENT
DTSTART;TZID=UTC:20260418T100000
DTEND;TZID=UTC:20260418T123000
DTSTAMP:20260421T113510
CREATED:20260124T143441Z
LAST-MODIFIED:20260124T143441Z
UID:61455-1776506400-1776515400@kstreetmagazine.com
SUMMARY:America’s 250th Birthday Party w/ DAR
DESCRIPTION:America’s 250th Birthday Party\nOur nation is celebrating 250 years\, and everyone is invited to the party! We’re hosting a morning of family-friendly fun throughout the DAR Library\, DAR Museum\, and Memorial Continental Hall. Enjoy historical story time\, Revolution-themed games\, and birthday cupcakes. Plus\, the first 250 guests will receive a patriotic goodie bag! Please feel free to bring any family\, friends and guests to this event and spread the word to others who might be interested. (This event is free and open to the public!) \nEvent Time: 10:00 AM – 12:30 PM \nRSVPs recommended but not required: RSVP Via Eventbrite HERE
URL:https://kstreetmagazine.com/event/americas-250th-birthday-party-w-dar/
LOCATION:DAR Constitution Hall\, 18th & C Streets NW\, Washington\, DC\, 20006
CATEGORIES:Other Entertainment
END:VEVENT
BEGIN:VEVENT
DTSTART;TZID=UTC:20260425T110000
DTEND;TZID=UTC:20260425T170000
DTSTAMP:20260421T113510
CREATED:20260325T115601Z
LAST-MODIFIED:20260325T115601Z
UID:61795-1777114800-1777136400@kstreetmagazine.com
SUMMARY:Living Earth Festival: Always Becoming
DESCRIPTION:Living Earth Festival: Always Becoming \nSaturday and Sunday\, April 25–26\, 11 AM–5 PM \nFree | National Mall \n\nCelebrate the transformational power of clay and the evolution of the museum’s iconic outdoor sculpture installation\, Always Becoming\, by Nora Naranjo Morse (Kha’p’o Owingeh [Santa Clara Pueblo]\, b. 1953). Join the National Museum of the American Indian for a weekend of stories\, artist demonstrations\, hands-on activities\, performances and more centered on the relationship between art and the earth. \nURL: https://americanindian.si.edu/events/?trumbaEmbed=view%3Dseries%26seriesid%3D1833045
URL:https://kstreetmagazine.com/event/living-earth-festival-always-becoming/
LOCATION:Smithsonian’s National Museum of the American Indian\, 4th St SW\, Washington\, DC\, 20560
CATEGORIES:Cultural,Other Entertainment
END:VEVENT
BEGIN:VEVENT
DTSTART;TZID=UTC:20260426T110000
DTEND;TZID=UTC:20260426T170000
DTSTAMP:20260421T113510
CREATED:20260325T115723Z
LAST-MODIFIED:20260325T115723Z
UID:61797-1777201200-1777222800@kstreetmagazine.com
SUMMARY:Living Earth Festival: Always Becoming
DESCRIPTION:Living Earth Festival: Always Becoming \nSaturday and Sunday\, April 25–26\, 11 AM–5 PM \nFree | National Mall \n\nCelebrate the transformational power of clay and the evolution of the museum’s iconic outdoor sculpture installation\, Always Becoming\, by Nora Naranjo Morse (Kha’p’o Owingeh [Santa Clara Pueblo]\, b. 1953). Join the National Museum of the American Indian for a weekend of stories\, artist demonstrations\, hands-on activities\, performances and more centered on the relationship between art and the earth. \nURL: https://americanindian.si.edu/events/?trumbaEmbed=view%3Dseries%26seriesid%3D1833045
URL:https://kstreetmagazine.com/event/living-earth-festival-always-becoming-2/
LOCATION:Smithsonian’s National Museum of the American Indian\, 4th St SW\, Washington\, DC\, 20560
CATEGORIES:Cultural,Other Entertainment
END:VEVENT
BEGIN:VEVENT
DTSTART;TZID=UTC:20260520T173000
DTEND;TZID=UTC:20260520T200000
DTSTAMP:20260421T113510
CREATED:20260413T012640Z
LAST-MODIFIED:20260413T012640Z
UID:61929-1779298200-1779307200@kstreetmagazine.com
SUMMARY:National Museum of Women in the Arts After Hours
DESCRIPTION:NMWA Nights—May\nWednesday\, May 20\, 5:30–8 p.m.\nJoin us on the third Wednesday evening of each month for a creative and engaging after-hours experience.  Peruse the galleries\, grab a cocktail\, listen to a performance\, attend a tour\, or participate in art-making activities. Two drink tickets are included with admission; additional beverages and food are available for purchase. Tickets go on sale on May 6.
URL:https://kstreetmagazine.com/event/national-museum-of-women-in-the-arts-after-hours-2/
LOCATION:National Museum of Women in the Arts\, 1250 New York Ave.\, NW\, Washington\, DC\, 20005
CATEGORIES:Arts/Theatre,Other Entertainment
END:VEVENT
END:VCALENDAR