BEGIN:VCALENDAR
VERSION:2.0
PRODID:-//K Street Magazine - ECPv6.15.20//NONSGML v1.0//EN
CALSCALE:GREGORIAN
METHOD:PUBLISH
X-ORIGINAL-URL:https://kstreetmagazine.com
X-WR-CALDESC:Events for K Street Magazine
REFRESH-INTERVAL;VALUE=DURATION:PT1H
X-Robots-Tag:noindex
X-PUBLISHED-TTL:PT1H
BEGIN:VTIMEZONE
TZID:UTC
BEGIN:STANDARD
TZOFFSETFROM:+0000
TZOFFSETTO:+0000
TZNAME:UTC
DTSTART:19690101T000000
END:STANDARD
END:VTIMEZONE
BEGIN:VEVENT
DTSTART;TZID=UTC:20260420T143211
DTEND;TZID=UTC:20250316T150000
DTSTAMP:20260420T143211
CREATED:20250316T154010Z
LAST-MODIFIED:20250316T154010Z
UID:60095-0-1742137200@kstreetmagazine.com
SUMMARY:"Blossom Bash" at Tyson's Corner Center
DESCRIPTION:“Blossom Bash” Event \nSunday March 30\, 2025 \n11:00 a.m. – 3:00 p.m. \nThe Plaza at Tysons Corner Center \nTysons Corner Center will celebrate Cherry Blossom season with a vibrant festival on the \nPlaza\, featuring themed activities\, live art\, entertainment performances\, food sampling\, sip \n& stroll “pink drinks”\, official NCBF merchandise giveaways\, and more. \n\nEvent activities will include: \n●  Exhibits from 20 Tysons Corner Center retailers and restaurants\, showcasing their \nCherry Blossom themed offerings \n●  Live Chalk Art activation in partnership with ArtsFairfax featuring 20 local artists \n●  Family-friendly free activities including face painting \n●  Special performances by Cherry Blossom Parade talent: Washington Commanders \nCommand Force and the Washington Wizards Dance Team \n●  “PenFed Petals” activation during the event; PenFed Credit Union will be \ngiving away beautiful build-your-own bouquets featuring cherry blossom \nbranches and other seasonal flowers. Plus\, their flower wall will be available \nfor selfies. PenFed members get VIP access and premium bouquets. \n●  Custom “Pink Drinks” from Earl’s\, Eddie V’s\, and Barrel + Bushel. Guests can take their drinks to the Plaza to sip\, stroll\, and enjoy the event.
URL:https://kstreetmagazine.com/event/blossom-bash-at-tysons-corner-center/
LOCATION:Tyson’s Corner Center\, 1961 Chain Bridge Rd\, Tysons\, VA\, 22102
CATEGORIES:Other Entertainment
END:VEVENT
BEGIN:VEVENT
DTSTART;TZID=UTC:20240921T090000
DTEND;TZID=UTC:20240921T130000
DTSTAMP:20260420T143211
CREATED:20240910T155230Z
LAST-MODIFIED:20240910T155230Z
UID:59447-1726909200-1726923600@kstreetmagazine.com
SUMMARY:Amazon's FREE Community Day
DESCRIPTION:Join Amazon for a free Community Day\, filled with outdoor fun\, to celebrate HQ2’s one-year anniversary in National Landing. Community members of all ages are invited to take part in the fun\, which includes exciting activities for children\, a DJ\, interactive art installations\, food tastings from local eateries\, a brunch garden\, lawn games\, a farmers market and much more. \nAmazon’s Community Day commemorates the company’s ongoing dedication to being a good neighbor and community partner in Virginia and across the region. Since announcing plans to build its second headquarters in Arlington\, Amazon has worked each day to fulfill its commitment to becoming one of the most trusted business and community partners in the region. Last year\, Amazon donated more than $78 million to over 100 organizations in the area\, making it the top corporate philanthropist in the region. \nWHEN: Saturday\, September 21\, 2024 from 9:00 a.m. – 1:00 p.m. ET \nWHAT:  The event has something for everyone\, including: \n\nA kid’s corner with a Lego wall\, face painting\, bubble art and glitter tattoos\nEnjoy beverages and local craft beers at the Boozy Brunch Garden\, or grab a bite from one of Met Park’s restaurants \nMake your mark on HQ2 with interactive art walls and chalk art\nVisit the community library to donate an old book and swap for a new one\nLawn games\, interactive art installations\, and live screen printing.\nStroll through Met Park’s Saturday Market\, where over 50 local vendors sell produce\, hot food and handcrafted art items\nSnap a picture at the photo booth equipped with themed props\nEnjoy family-friendly tunes with a live DJ to keep the energy up\n\nWHERE: Amazon’s HQ2 at Metropolitan Park\, 510 14th St. S\, Arlington\, VA 22202
URL:https://kstreetmagazine.com/event/amazons-free-community-day/
LOCATION:Amazon’s HQ2\, 510 14th St. S\,\, Arlington\, VA\, 22202\, United States
CATEGORIES:Other Entertainment
END:VEVENT
BEGIN:VEVENT
DTSTART;TZID=UTC:20240928T120000
DTEND;TZID=UTC:20240928T160000
DTSTAMP:20260420T143211
CREATED:20240910T154746Z
LAST-MODIFIED:20240910T155337Z
UID:59444-1727524800-1727539200@kstreetmagazine.com
SUMMARY:National Landing’s Annual Oktoberfest
DESCRIPTION:WHAT: Break out your lederhosen and raise your steins for National Landing’s annual Oktoberfest! Welcome the fall season and celebrate with a day full of dancing\, cheers and revelry hosted by the National Landing Business Improvement District and District Fray. \nGuests will enjoy traditional German music including Polka\, Marches and Waltzes from The Alte Kumpel Band. Locally-owned Port City Brewing Company will serve up crisp lagers and ales – including their award-winning Märzen-style lager\, Oktoberfest\, as this year’s official beer sponsor. Cider and pub bites will be available from nearby restaurants including Crystal City Sports Pub\, The Portofino Restaurant and Beauty Champagne and Sugar Boutique. \nAdults can participate in a classic Stein hold and a costume competition to celebrate the best dressed and a braid bar by Drybar National Landing will be available! \nWHEN: Saturday\, September 28 from 12:00 to 4:00 PM. \nWHERE: 2200 S Eads Street\, Arlington\, VA 22202 \nHOW: Festival tickets are available for purchase at nationallanding.org/oktoberfest. Tickets are required and are $10 in advance or $15 at the door.
URL:https://kstreetmagazine.com/event/national-landings-annual-oktoberfest/
LOCATION:National Landing
CATEGORIES:Other Entertainment
END:VEVENT
END:VCALENDAR