BEGIN:VCALENDAR
VERSION:2.0
PRODID:-//K Street Magazine - ECPv6.15.20//NONSGML v1.0//EN
CALSCALE:GREGORIAN
METHOD:PUBLISH
X-ORIGINAL-URL:https://kstreetmagazine.com
X-WR-CALDESC:Events for K Street Magazine
REFRESH-INTERVAL;VALUE=DURATION:PT1H
X-Robots-Tag:noindex
X-PUBLISHED-TTL:PT1H
BEGIN:VTIMEZONE
TZID:UTC
BEGIN:STANDARD
TZOFFSETFROM:+0000
TZOFFSETTO:+0000
TZNAME:UTC
DTSTART:20230101T000000
END:STANDARD
END:VTIMEZONE
BEGIN:VEVENT
DTSTART;TZID=UTC:20260329T120000
DTEND;TZID=UTC:20260329T160000
DTSTAMP:20260420T120839
CREATED:20260325T124009Z
LAST-MODIFIED:20260325T124009Z
UID:61809-1774785600-1774800000@kstreetmagazine.com
SUMMARY:Blossom Bash – Center in Bloom @ Tysons
DESCRIPTION:Blossom Bash – Center in Bloom\nMarch 29\, 2026 | 12–4 PM Tysons Corner Center\nThis spring\, Tysons Corner Center transforms into Center in Bloom (March 20–April 17)\, a vibrant celebration of the season. \nThe signature event\, Blossom Bash\, invites guests to experience an afternoon of creativity and community featuring: \n\n\nInteractive activations from 40+ retailers \n\n\nLive chalk art by 20 local artists \n\n\nSeasonal food and beverage specials \n\n\nLive music throughout the center \n\n\nSpecial appearances by festival parade talent \n\n\nGiveaways and pop-up surprises \n\n\nThis event is free and open to all ages. For more information\, visit: tysonscornercenter.co
URL:https://kstreetmagazine.com/event/blossom-bash-center-in-bloom-tysons/
LOCATION:Tysons Corner Center
CATEGORIES:Health/Wellness,Music/Concert,Other Entertainment
END:VEVENT
BEGIN:VEVENT
DTSTART;TZID=UTC:20260101T090000
DTEND;TZID=UTC:20260101T120000
DTSTAMP:20260420T120839
CREATED:20251224T172411Z
LAST-MODIFIED:20251224T172411Z
UID:61384-1767258000-1767268800@kstreetmagazine.com
SUMMARY:12th Annuals FITDC Fresh Start 5k
DESCRIPTION:Run through the tape with Mayor Muriel Bowser at the 12th Annual FITDC Fresh Start 5K on Thursday\, January 1st! This energizing New Year’s Day tradition brings together community members from all 8 Wards to spread health and positivity as we cross the Frederick Douglass Memorial Bridge. Whether you’re a seasoned runner\, a casual stroller\, or cheering from the sidelines\, the Fresh Start 5K is the perfect place to kickstart your year. \n\n\nRace Information  \n\n\n9:00 AM Registration opens  \n\n\n10:15 AM Kids Dash  \n\n\n11:00 AM Fresh Start 5K begins   \n\n\nSign up now at fitdcfreshstart5k26.splashthat.com! 
URL:https://kstreetmagazine.com/event/12th-annuals-fitdc-fresh-start-5k/
LOCATION:Frederick Douglass Memorial Bridge
CATEGORIES:Health/Wellness
END:VEVENT
BEGIN:VEVENT
DTSTART;TZID=UTC:20251012T100000
DTEND;TZID=UTC:20251012T150000
DTSTAMP:20260420T120839
CREATED:20250927T122140Z
LAST-MODIFIED:20250927T122140Z
UID:61041-1760263200-1760281200@kstreetmagazine.com
SUMMARY:Beauty + Balance @ Westfield Montgomery
DESCRIPTION:On Sunday\, October 12th\, Westfield Montgomery will host Beauty + Balance\, a one-day community event that blends movement\, beauty\, wellness resources\, and prevention information for Breast Cancer Awareness Month. From 10am-3 pm in Center Court and lower level aisles\, guests will find: \n\n\nShopping Is My Cardio: Kick the day off at 10am with body-positive instructor Monique Coleman of Curvy Fit Fitness\, guests will enjoy a free high energy dance fitness class. \n\n\nBreast Cancer Awareness: Local non-profit For 3 Sisters will be onsite sharing vital resources and information about their mission to support individuals affected by breast cancer. Don’t miss Vicky\, the pink fire truck\, parked outside. \n\n\nLip Readings: As a gift with purchase\, Certified Lipsologist Ariana Lightningstorm will offer shoppers insight into what their kiss print says about their personality.  \n\n\nPop-Out Activations: From 11am to 3pm\, shoppers can enjoy mini makeovers\, and free samples from their favorite retailers.  \n\n\nThe event is free to the public and more information can be found here. 
URL:https://kstreetmagazine.com/event/beauty-balance-westfield-montgomery/
LOCATION:Westfield Montgomery Mall\, 7101 Democracy Blvd.\, Bethesda\, MD\, 20817
CATEGORIES:Health/Wellness,Shopping
END:VEVENT
BEGIN:VEVENT
DTSTART;TZID=UTC:20250907T070000
DTEND;TZID=UTC:20250907T120000
DTSTAMP:20260420T120839
CREATED:20250808T235910Z
LAST-MODIFIED:20250808T235910Z
UID:60840-1757228400-1757246400@kstreetmagazine.com
SUMMARY:George Washington Patriot Run
DESCRIPTION:George Washington Patriot Run: 10 Mile/5K\nRegister by August 17 to Save $10 \nJoin on September 7 for Mount Vernon’s 10th annual race on the George Washington Memorial Parkway! You’ll cross the finish line in front of George Washington’s Mansion. \nParticipants receive a commemorative t-shirt\, finisher medal\, and a free post-race beer.
URL:https://kstreetmagazine.com/event/george-washington-patriot-run/
LOCATION:George Washington’s Mount Vernon\, 3200 Mount Vernon Memorial Highway\, Mount Vernon\, VA\, 22121
CATEGORIES:Health/Wellness
END:VEVENT
BEGIN:VEVENT
DTSTART;TZID=UTC:20250413T100000
DTEND;TZID=UTC:20250413T230000
DTSTAMP:20260420T120839
CREATED:20250329T124648Z
LAST-MODIFIED:20250329T124648Z
UID:60181-1744538400-1744585200@kstreetmagazine.com
SUMMARY:Westfield Montgomery’s Shopping is My Cardio
DESCRIPTION:April’s event in Westfield Montgomery’s free monthly fitness series will feature a pink moon-themed 45-minute high-energy Barre Sculpt class. After the workout\, participants will be offered complimentary treats and activities\, including: reusable tote bags\, prizes and exclusive shopping and dining offers. \nWestfield Montgomery is hosting the free monthly fitness series. Christie Horan\, professional dancer (formerly with the NBA and currently with our local football team) and founder of MCG\, (Move Challenge Grow)\, returns to teach a high energy Barre Sculpt class suited for all fitness levels. \nWhen: Sunday\, April 13 at 10am \nWhere: Westfield Montgomery’s Center Court\, Level 1\, 7101 Democracy Boulevard\, Bethesda\, MD \nHow:  Interested participants can secure their spot via this link. \nUp Next: The series will continue on the second Sunday of every month until October\, with exciting events with exclusive gifts\, shopping offers\, food and beverage samples and classes taught by Barry’s Bootcamp\, Salsa by Silvia\, David McMichael\, Fit4Mom and more.
URL:https://kstreetmagazine.com/event/westfield-montgomerys-shopping-is-my-cardio/
LOCATION:Westfield Montgomery Mall\, 7101 Democracy Blvd.\, Bethesda\, MD\, 20817
CATEGORIES:Health/Wellness
END:VEVENT
BEGIN:VEVENT
DTSTART;TZID=UTC:20250309T100000
DTEND;TZID=UTC:20250309T230000
DTSTAMP:20260420T120839
CREATED:20250304T205705Z
LAST-MODIFIED:20250304T205705Z
UID:60068-1741514400-1741561200@kstreetmagazine.com
SUMMARY:Free Bar Sculpt Class at Westfield Montgomery
DESCRIPTION:Free monthly fitness series launches this Sunday with a Women’s Day themed 45 minute high-energy Barre Sculpt class. After the workout\, participants will be treated to complimentary treats and activities\, including: customizable seasonal flower bouquets\, reusable tote bags\, prizes and exclusive shopping and dining offers. \nWho: Westfield Montgomery will host the free monthly fitness series. The first event will be taught by Christie Horan\, who is a professional dancer (formerly with the NBA and currently with the local football team) and founder of MCG (Move Challenge Grow).  The event is open to attendees of all fitness levels. \nWhen: Sunday\, March 9 at 10am \nWhere: Westfield Montgomery’s Center Court\, Level 1\, 7101 Democracy Boulevard\, Bethesda\, MD \nHow:  Interested participants can secure their spot via this link.
URL:https://kstreetmagazine.com/event/free-bar-sculpt-class-at-westfield-montgomery/
LOCATION:Westfield Montgomery Mall\, 7101 Democracy Blvd.\, Bethesda\, MD\, 20817
CATEGORIES:Health/Wellness
END:VEVENT
BEGIN:VEVENT
DTSTART;TZID=UTC:20250215T120000
DTEND;TZID=UTC:20250215T160000
DTSTAMP:20260420T120839
CREATED:20250208T131959Z
LAST-MODIFIED:20250208T131959Z
UID:59990-1739620800-1739635200@kstreetmagazine.com
SUMMARY:Cupid's Undie Run 2025
DESCRIPTION:Every February\, thousands of undie runners in cities across the U.S. come together\, whether it be in-person or virtually\, to support those affected by NF\, a group of genetic conditions that cause tumors to grow on nerves throughout the body. \nCupid’s Undie Run kicks off with drinking and dancing\, then we jog it out with a mile(ish) run and end it all with an epic dance party! \nWHEN: FEBRUARY 15\, 2025 \nTIME: 12PM – 4PM (Run starts at 2pm) \nWHERE: UNION STAGE \nWHAT: A PARTY & FUN RUN IN YOUR UNDIES\, ALL FOR CHARITY!
URL:https://kstreetmagazine.com/event/cupids-undie-run-2025/
LOCATION:Union Stage\, 740 Water Street NW\, Washington\, DC\, 20024
CATEGORIES:Charitable Event,Health/Wellness
END:VEVENT
BEGIN:VEVENT
DTSTART;TZID=UTC:20240908T070000
DTEND;TZID=UTC:20240908T120000
DTSTAMP:20260420T120839
CREATED:20240323T124435Z
LAST-MODIFIED:20240323T124435Z
UID:59183-1725778800-1725796800@kstreetmagazine.com
SUMMARY:George Washington Patriot Run: 10 Mile/5K
DESCRIPTION:Join in on September 8 for the 9th annual race on the George Washington Memorial Parkway! Choose from our 5k race or 10-mile course. You’ll cross the finish line in front of George Washington’s Mansion. \nThe race will include a 10-Miler and a 5K on Sunday\, September 8. \n10-Mile race starts at 7:15 am. \n5K race starts at 7:30 am. \nThe racecourse includes both lanes of a 5-mile stretch of the George Washington Parkway from the GW Parkway Circle to W. Boulevard Drive. \nThe Finish Festival will offer music\, food and beverage concessions\, and a free beer for each runner. \n  \nMEDAL AND T-SHIRT\nAll participants will receive a commemorative George Washington Patriot Run technical t-shirt and a spectacular finisher medal engraved with George Washington’s bust. \nAWARDS\nAwards will be presented to 1st place overall\, by age division\, and for the Military/First Responder categories. \n  \n 
URL:https://kstreetmagazine.com/event/george-washington-patriot-run-10-mile-5k/
LOCATION:Mt. Vernon\, 3200 Mount Vernon Memorial Highway\, Mount Vernon\, VA\, 22121\, United States
CATEGORIES:Health/Wellness
END:VEVENT
BEGIN:VEVENT
DTSTART;TZID=UTC:20240214T191500
DTEND;TZID=UTC:20240214T211500
DTSTAMP:20260420T120839
CREATED:20240206T022228Z
LAST-MODIFIED:20240206T022228Z
UID:59127-1707938100-1707945300@kstreetmagazine.com
SUMMARY:Bumble at Rumble Singles Match-Up
DESCRIPTION:Who: \nBumble and Rumble Boxing Gym DC are partnering to host Washington DC area singles. \n\nWhat: \nBumble at Rumble Singles Match Up – DC area singles are invited to attend a special Bumble edition Rumble Boxing class where attendees will break a sweat and then break the ice with potential connections. \n  \nThis ‘singles-only’ Rumble class will allow attendees to get a little physical through quick partner rotations\, all the while enjoying the positive energy and great music that are so emblematic of Rumble’s 45-minute\, punch-packing total body workout. \n\nFollowing the class\, attendees will mix and mingle aided by Bumble’s signature ice breaking cards\, refresh with drinks provided by Healthaide and nosh on charcuterie boards by Honeyleaf Platters. \n\n\nWhere: \nRumble Boxing Gym DC \n2001 M St NW\, Suite 120 \nWashington\, DC 20036 \n\nWhen: \nTuesday\, February 13 \n7:15pm to 9pm (class starts promptly at 7:30pm\, social mixer from 8:15pm to 9:15pm) \n  \nWednesday\, February 14 \n7:15pm to 9pm (class starts promptly at 7:30pm\, social mixer from 8:15pm to 9:15pm) \n\nHow: \nBook Tuesday\, February 13’s event here and Wednesday\, February 14’s event here. Tickets are $34 and include complimentary glove rental and wraps for each attendee to keep (an $11 discount).  The $34 ticket also includes refreshments\, a free future Rumble DC class\, plus the chance to win some knock-out prizes.
URL:https://kstreetmagazine.com/event/bumble-at-rumble-singles-match-up-2/
LOCATION:Rumble Boxing Gym\, 2001 M St NW\, Suite 120\, Washington\, DC\, 20036
CATEGORIES:Health/Wellness,Other Entertainment
END:VEVENT
BEGIN:VEVENT
DTSTART;TZID=UTC:20240213T191500
DTEND;TZID=UTC:20240213T211500
DTSTAMP:20260420T120839
CREATED:20240206T022119Z
LAST-MODIFIED:20240206T022119Z
UID:59124-1707851700-1707858900@kstreetmagazine.com
SUMMARY:Bumble at Rumble Singles Match Up
DESCRIPTION:Who: \nBumble and Rumble Boxing Gym DC are partnering to host Washington DC area singles. \n\nWhat: \nBumble at Rumble Singles Match Up – DC area singles are invited to attend a special Bumble edition Rumble Boxing class where attendees will break a sweat and then break the ice with potential connections. \n  \nThis ‘singles-only’ Rumble class will allow attendees to get a little physical through quick partner rotations\, all the while enjoying the positive energy and great music that are so emblematic of Rumble’s 45-minute\, punch-packing total body workout. \n\nFollowing the class\, attendees will mix and mingle aided by Bumble’s signature ice breaking cards\, refresh with drinks provided by Healthaide and nosh on charcuterie boards by Honeyleaf Platters. \n\n\nWhere: \nRumble Boxing Gym DC \n2001 M St NW\, Suite 120 \nWashington\, DC 20036 \n\nWhen: \nTuesday\, February 13 \n7:15pm to 9pm (class starts promptly at 7:30pm\, social mixer from 8:15pm to 9:15pm) \n  \nWednesday\, February 14 \n7:15pm to 9pm (class starts promptly at 7:30pm\, social mixer from 8:15pm to 9:15pm) \n\nHow: \nBook Tuesday\, February 13’s event here and Wednesday\, February 14’s event here. Tickets are $34 and include complimentary glove rental and wraps for each attendee to keep (an $11 discount).  The $34 ticket also includes refreshments\, a free future Rumble DC class\, plus the chance to win some knock-out prizes.
URL:https://kstreetmagazine.com/event/bumble-at-rumble-singles-match-up/
LOCATION:Rumble Boxing Gym\, 2001 M St NW\, Suite 120\, Washington\, DC\, 20036
CATEGORIES:Health/Wellness,Other Entertainment
END:VEVENT
END:VCALENDAR