BEGIN:VCALENDAR
VERSION:2.0
PRODID:-//K Street Magazine - ECPv6.15.20//NONSGML v1.0//EN
CALSCALE:GREGORIAN
METHOD:PUBLISH
X-ORIGINAL-URL:https://kstreetmagazine.com
X-WR-CALDESC:Events for K Street Magazine
REFRESH-INTERVAL;VALUE=DURATION:PT1H
X-Robots-Tag:noindex
X-PUBLISHED-TTL:PT1H
BEGIN:VTIMEZONE
TZID:UTC
BEGIN:STANDARD
TZOFFSETFROM:+0000
TZOFFSETTO:+0000
TZNAME:UTC
DTSTART:20250101T000000
END:STANDARD
END:VTIMEZONE
BEGIN:VEVENT
DTSTART;TZID=UTC:20260412T080000
DTEND;TZID=UTC:20260412T170000
DTSTAMP:20260420T201754
CREATED:20260412T225426Z
LAST-MODIFIED:20260412T225426Z
UID:61917-1775980800-1776013200@kstreetmagazine.com
SUMMARY:Banned Books Speakeasy
DESCRIPTION:For its third edition\, The Study at Morrison House once again invites you into its best-kept secret… \nOur shelves are filling back up—and so is our cocktail menu—with banned books that have sparked conversation for generations. As a haven for storytelling\, we continue to celebrate the power of the written word while giving back to the libraries that keep these stories alive. \nWhat began as a hidden escape for literary lovers has quickly become a favorite tradition. We’re opening the door once more to our intimate\, book-lined speakeasy—where forbidden stories inspire every sip. \n\n\n\n\n\n\n\n\n\n\n\n\n\n\n\n\n\n\n\n\n\n\n\n\n\n\n\n\n\n\n\n\n\n\n\n\n\n\n\n\n\n\n\n\n\n\n\n\n\n\n\n\n\n\n\n\n\n\n\n\n\n\n\n\n\n\n\n\n\n\n\n\n\n\n\n\n\n\n\n\n\n\n\n\n\n\n\nRESERVE A TIMED ENTRY TICKET \n\n\n\n\n\n\n\n\n\n\n\n\n\n\n\n\n\n\n\n\n\nAll curious readers must secure a timed entry ticket —your key to meeting our librarian and slipping into our hidden world of forbidden tales. Directions on where to find our secret door and librarian will be texted the week of the event. Once you’ve gained access\, you can read\, mingle\, and sip for as long as you’d like. \n\n\n\n\n\n\n\n\n\nRESERVE A TICKET\n\n\n\n\n\n\n\n\n\n\n\n\n\n\n\n\n\n\n\n\n\n\n\n\n\n\n\n\n\n\n\n\n\n\n\n\n\n\n\n\n\n\n\n\n\n\n\n\n\n\n\n\n\n\n\n\n\n\n\n\n\n\n\n\n\n\n\n\n\n\n\n\n\n\n\n\n\n\n\n\n\n\n\n\n\n\nSUPPORTING LOCAL LIBRARIES \n\n\n\n\n\n\n\n\n\n\n\n\n\n\n\n\n\n\n\n\n\nYour $2 timed entry ticket is donated fully to the Virginia Library Association in support of local libraries and librarians. Last year\, the event was able to raise almost $4\,500! If you’re interested in additional donations\, you can support the Virginia Library Association’s Librarian of Color Forum Award\, LGBTQIA+ Forum Fund\, Scholarship Fund\, and more! \n\n\n\n\n\n\n\n\n\nDONATE TO THE VLA\n\n\n\n\n\n\n\n\n\n\n\n\n\n\n\n\n\n\n\n\n\n\n\n\n\n\n\n\n\n\n\n\n\n\n\n\n\n\n\n\n\n\n\n\n\n\n\n\n\n\n\n\n\n\n\n\n\n\n\n\nThis season\, Morrison House reimagined its menu with a new collection of cocktails\, each influenced by some of the most iconic—and challenged—books in the U.S. Curious which made the list? You’ll have to step inside to find out. Explore beyond the books and cocktails with a limited food menu featuring some of our favorites from The Study’s restaurant menu.
URL:https://kstreetmagazine.com/event/banned-books-speakeasy/
LOCATION:Morrison House\, 116 S Alfred St\, Alexandria\, VA\, 22314
CATEGORIES:Charitable Event,Other Entertainment
END:VEVENT
END:VCALENDAR