BEGIN:VCALENDAR
VERSION:2.0
PRODID:-//K Street Magazine - ECPv6.15.20//NONSGML v1.0//EN
CALSCALE:GREGORIAN
METHOD:PUBLISH
X-ORIGINAL-URL:https://kstreetmagazine.com
X-WR-CALDESC:Events for K Street Magazine
REFRESH-INTERVAL;VALUE=DURATION:PT1H
X-Robots-Tag:noindex
X-PUBLISHED-TTL:PT1H
BEGIN:VTIMEZONE
TZID:UTC
BEGIN:STANDARD
TZOFFSETFROM:+0000
TZOFFSETTO:+0000
TZNAME:UTC
DTSTART:20230101T000000
END:STANDARD
END:VTIMEZONE
BEGIN:VEVENT
DTSTART;TZID=UTC:20250215T120000
DTEND;TZID=UTC:20250215T160000
DTSTAMP:20260424T125121
CREATED:20250208T131959Z
LAST-MODIFIED:20250208T131959Z
UID:59990-1739620800-1739635200@kstreetmagazine.com
SUMMARY:Cupid's Undie Run 2025
DESCRIPTION:Every February\, thousands of undie runners in cities across the U.S. come together\, whether it be in-person or virtually\, to support those affected by NF\, a group of genetic conditions that cause tumors to grow on nerves throughout the body. \nCupid’s Undie Run kicks off with drinking and dancing\, then we jog it out with a mile(ish) run and end it all with an epic dance party! \nWHEN: FEBRUARY 15\, 2025 \nTIME: 12PM – 4PM (Run starts at 2pm) \nWHERE: UNION STAGE \nWHAT: A PARTY & FUN RUN IN YOUR UNDIES\, ALL FOR CHARITY!
URL:https://kstreetmagazine.com/event/cupids-undie-run-2025/
LOCATION:Union Stage\, 740 Water Street NW\, Washington\, DC\, 20024
CATEGORIES:Charitable Event,Health/Wellness
END:VEVENT
BEGIN:VEVENT
DTSTART;TZID=UTC:20241207T180000
DTEND;TZID=UTC:20241207T220000
DTSTAMP:20260424T125121
CREATED:20240914T193359Z
LAST-MODIFIED:20240914T193359Z
UID:59460-1733594400-1733608800@kstreetmagazine.com
SUMMARY:2024 Annual Tennis Creates Gala
DESCRIPTION:The 2024 Annual Tennis Creates Gala will be held Saturday\, December 7th at the Salamander Hotel in Washington\, D.C. \nThe theme of this year’s star-studded Gala – The 2024 Annual Tennis Creates Gala – represents the role USTA Mid-Atlantic plays in creating Community\, Character and Well Being in the Mid-Atlantic Region.  This year’s proceeds will benefit Girls Rule the Court\, Community Facilities Restoration\, and Junior Scholarships. \nThe Gala\, presented by Onelife Fitness\, will feature a VIP cocktail reception\, a three-course dinner and wine pairing\, the Tennis Creates Awards\, live music and dancing\, a silent auction\, live auction\, and paddle raise\, all in support of the USTA MAF’s mission to champion tennis for healthier lives and communities\, making the sport accessible to all in the Mid-Atlantic. \nHusband and wife duo\, both actors\, models and philanthropists\, Nicole Ari Parker and Boris Kodjoe will be the Gala’s hosts\, bringing their celebrity and passion for philanthropy to the DC area.  They will be joined by professional tennis players\, tennis Hall of Famers\, leading philanthropists\, sports professionals and broadcasters\, as well as many area business leaders\, VIPs\, and government officials. \nThe 2024 Tennis Creates Gala co-chairs are Maria and Kirk Galiani and Lee and Henry Fonvielle. \nAbout the Gala Hosts: \nSeven-time NAACP Image Award nominee Nicole Ari Parker is best known for her outstanding performance as “Teri Joseph’ on Showtime’s award-winning original series “Soul Food.”  Most currently\, Parker stars as Lisa Todd Wexley in the HBO Max comedy-drama series “And Just Like That\,” the sequel to HBO’s hit series\, “Sex and the City.”  German native Boris Kodjoe is best known for his role in the television series “Soul Food\,” which earned him three NAACP Award nominations for Outstanding Supporting Actor. In 2019\, Kodjoe joined as a regular on the Shonda Rhimes ABC series “Station 19.” \nFor more information about USTA Mid-Atlantic Foundation’s efforts and how to get involved\, please visit www.ustamidatlanticfoundation.org.
URL:https://kstreetmagazine.com/event/2024-annual-tennis-creates-gala/
LOCATION:Salamander Hotel\, 1330 Maryland Ave SW\, Washington\, DC\, 20024\, United States
CATEGORIES:Charitable Event,Sports
END:VEVENT
BEGIN:VEVENT
DTSTART;TZID=UTC:20241116T100000
DTEND;TZID=UTC:20241116T120000
DTSTAMP:20260424T125121
CREATED:20241111T150211Z
LAST-MODIFIED:20241111T150211Z
UID:59679-1731751200-1731758400@kstreetmagazine.com
SUMMARY:National Landing BID Community Cleanup
DESCRIPTION:National Landing BID will be hosting a Community Cleanup from 10 AM-12 PM. \nVolunteers will gather at the Crystal City Metro (1750 S Clark Street)\, receive supplies\, and are invited to enjoy a post-cleanup social hour at McNamara’s Pub along 23rd Street. The cleanup is one of the many ways the BID is investing in sustainable\, long-term improvements to create a more welcoming and well-maintained community. \nGuests should bring water\, closed-toed shoes and comfy clothes. \nMore details and the link to register is here.
URL:https://kstreetmagazine.com/event/national-landing-bid-community-cleanup/
LOCATION:National Landing
CATEGORIES:Charitable Event
END:VEVENT
BEGIN:VEVENT
DTSTART;TZID=UTC:20241107T180000
DTEND;TZID=UTC:20241107T220000
DTSTAMP:20260424T125121
CREATED:20240910T153724Z
LAST-MODIFIED:20240910T153724Z
UID:59437-1731002400-1731016800@kstreetmagazine.com
SUMMARY:Capital Food Fight
DESCRIPTION:The 20th anniversary of DC Central Kitchen’s Capital Food Fight\, presented by Instacart and Lineage Foundation for Good\, is set to take place at The Anthem on Thursday\, November 7\, 2024. \n“Just as DC Central Kitchen has always sought to fight hunger differently over the past 35 years\, Capital Food Fight has always been a fundamentally different type of event\,” says Mike Curtin\, CEO of DC Central Kitchen. “Over the past two decades\, we have come together to celebrate our local restaurant community and the relentless\, innovative work of DC Central Kitchen on the front lines of hunger and poverty. We are so grateful to the thousands of attendees\, restaurants\, and sponsors who have helped us raise more than $12 million through the years in support of our work.” \nFour new local chefs will join a storied list of notable chefs who have faced off in the head-to-head culinary challenge featuring a spotlighted secret ingredient. Michelin-star Chef & Co-Owner of Rooster &amp; Owl and Ellie Bird Yuan Tang\, Chef Sarah Ravitz of Shilling Canning Company (a former chef at two Micheline-starred Minibar)\,\nExecutive Chef Katarina Petonito of Eastern Point Collective restaurants (The Duck & The Peach\, La Collina\, Méli\, and The Wells)\, and The Colada Shop’s Executive Chef Jova Urriola will step up to the stoves on the main event stage throughout the evening. \nTheir dishes will be judged by a panel of culinary icons\, including Emmy & 4x James Beard Award-Winning Chef and Cultural Anthropologist Andrew Zimmern\, acclaimed Chef & Restaurateur Kwame Onwuachi\, Top Chef All-Star & Restaurateur Sara Bradley\, Mr. National Ryan Zimmerman\, and DC’s own Chef Ris Lacoste – the winner of the very first Capital Food Fight! Celebrity Chef and DC-based Restaurateur\, Spike Mendelsohn\, Chef Andrés\, and local media personality Tommy McFly return as the evening’s hosts and emcee\, respectively. DJ Tezrah will keep things rocking on the decks all night long as attendees enjoy libations and delicious bites from more than 80 of the DMV’s best restaurants and bars across two floors of The Anthem. \nTickets will be available for purchase at www.capitalfoodfight.org General admission tickets are $350\, with VIP access\ngoing for $625. VIP ticket holders will have exclusive access to a stage-front lounge area featuring small bites and special sips from some of the city’s elite producers. \nAll proceeds from Capital Food Fight\, including donations\, the raffle and silent auction\, go to support DC Central Kitchen’s award-winning solutions to hunger and poverty in Washington\, DC\, from providing culinary job training to serving scratch-cooked school meals to delivering fresh fruits and vegetables at deep discounts to small corner stores across city.
URL:https://kstreetmagazine.com/event/capital-food-fight-2024/
LOCATION:The Anthem\, 901 Wharf Street SW\, Washington\, DC\, 20024
CATEGORIES:Charitable Event,Foodie
END:VEVENT
BEGIN:VEVENT
DTSTART;TZID=UTC:20240925T180000
DTEND;TZID=UTC:20240925T220000
DTSTAMP:20260424T125121
CREATED:20240914T133536Z
LAST-MODIFIED:20240914T133536Z
UID:59452-1727287200-1727301600@kstreetmagazine.com
SUMMARY:Prevent Cancer Foundation 30th Annual Gala
DESCRIPTION:On September 25\, the Prevent Cancer Foundation will hold its 30th Annual Gala to support cancer prevention and early detection programs. Over the last three decades\, funding from this Gala has led to breakthroughs in cancer research and innovative technologies\, including the development of new screening methods and early detection tools that have significantly improved patient outcomes. The Gala has also funded public education campaigns that have educated millions about the importance of cancer prevention and early detection.  \nThe 2024 Gala event will pay tribute to the United Kingdom\, honoring The British Ambassador\, Her Excellency Dame Karen Pierce DCMG and Sir Charles Roxburgh KCB. With every Gala since 1994\, the Foundation has honored a country that shares its commitment to ending cancer—past honorees include South Korea\, Australia and\, most recently\, Jordan. This year’s event\, themed\, An Indispensable Friendship\, will feature an evening of lively music and inspiring personal stories while highlighting some of the United Kingdom’s special splendor.   \nContinuing with tradition\, the Foundation will present the annual Cancer Champion awards. The Prevent Cancer Foundation will recognize Senator Thom Tillis and Representative Anna Eshoo for their significant contributions to increasing access to prevention and early detection services.  \nSen. Tillis\, who was diagnosed with prostate cancer in 2021\, has been open about his own cancer journey to raise awareness about the importance of prioritizing routine screenings. He successfully passed an amendment to expand veterans’ access to breast cancer screenings and is a supporter of multi-cancer early detection technology\, evidenced by his co-sponsorship of the Medicare Multi-Cancer Early Detection Screening Coverage Act.   \nAlongside Sen. Tillis\, Rep. Eshoo is a co-sponsor of the bipartisan Medicare Multi-Cancer Early Detection Screening Coverage Act. She has also provided instrumental leadership on the Metastatic Breast Cancer Access to Care Act\, Reconstructive Breast Surgery Benefits Act\, Breast Cancer and Cervical Treatment Act and Recalcitrant Cancer Research Act. Rep. Eshoo is a member of the Congressional Caucus on the Deadliest Cancers\, working on behalf of cancer patients and their families to raise awareness about the deadliest forms of cancer (defined as those with a five-year survival rate below 50%).   \nThe Prevent Cancer Gala is recognized as one of Washington’s premier events and is ranked among top Washington charity events\, attracting more than 1\,000 guests\, including members of Congress and the administration; the diplomatic community; and leaders in business\, government\, medical\, sports\, media\, social and philanthropic communities.    \nWhat: Prevent Cancer Annual Gala  \nWhen: Wednesday\, September 25  \nWhere: National Building Museum\, 401 F St. NW\, Washington\, D.C. 20001  \nDress: Business or formal attire
URL:https://kstreetmagazine.com/event/prevent-cancer-foundation-30th-annual-gala/
LOCATION:National Building Museum\, 410 F Street NW\, Washington\, DC
CATEGORIES:Charitable Event,Gala
END:VEVENT
BEGIN:VEVENT
DTSTART;TZID=UTC:20240614T090000
DTEND;TZID=UTC:20240614T170000
DTSTAMP:20260424T125121
CREATED:20240426T213144Z
LAST-MODIFIED:20240426T213144Z
UID:59268-1718355600-1718384400@kstreetmagazine.com
SUMMARY:"14 Stories of New Hope - Over The Edge” Fundraiser Event
DESCRIPTION:Hilton Arlington National Landing will be hosting New Hope Housing’s third annual “14 Stories of New Hope” fundraiser on June 14th\, 2024. Thrill seekers go over the edge and rappel down the 160-ft descent of Hilton Arlington National Landing while raising awareness and supporting New Hope Housing’s mission to end homelessness in the Northern Virginia area.  \nThe event will last from 9:00am to 5:00pm with 90 people partaking throughout the day. To rappel off the building\, participants need to raise at least $1\,000. The festivities also include  “The Landing Zone” – an all-day Block Party at the hotel’s base will feature food\, a DJ\, fun activities\, and booths from event sponsors. All are welcome to attend and enjoy the exciting day.  \nIn November 2023\, Hilton Arlington National Landing was named Community Champion at New Hope Housing’s Volunteer Appreciation Ceremony for representing the values of New Hope Housing in the community and for creating new opportunities to partner. For the past two years\, Hilton Arlington National Landing has been the host for New Hope Housing’s “Over the Edge” fundraising event at which over 160 supporters and donors have rappelled down the side of the hotel.  \n \nAttendees Rappelling in 2023 \nWHERE: \nHilton Arlington National Landing  \n2399 Richmond Hwy\, Arlington\, VA 22202 \n  \nWHEN: \nFriday\, June 14\, 2024 \n9:00am – 5:00pm  \n  \nATTEND: People interested in registering to rappel or sponsor can go to www.otenewhope.com. Rappellers will need to raise at least $1\,000 for the opportunity to rappel. The block party is free to attend with no pre-registration. Visit www.otenewhope.com for more information.  \n  \nAbout New Hope Housing \nNew Hope Housing is an innovative nonprofit agency committed to finding creative and lasting \nsolutions to end the cycle of homelessness in Fairfax County\, City of Alexandria\, Arlington County\, and City of Falls Church. The organization provides shelter\, permanent supportive housing\, outreach\, and support services for homeless single adults.
URL:https://kstreetmagazine.com/event/14-stories-of-new-hope-over-the-edge-fundraiser-event/
LOCATION:Hilton Arlington National Landing\, 2399 Richmond Hwy\, Arlington\, VA\, 22202
CATEGORIES:Charitable Event
END:VEVENT
BEGIN:VEVENT
DTSTART;TZID=UTC:20240508T183000
DTEND;TZID=UTC:20240508T230000
DTSTAMP:20260424T125121
CREATED:20240323T131507Z
LAST-MODIFIED:20240323T131507Z
UID:59203-1715193000-1715209200@kstreetmagazine.com
SUMMARY:Ball for the Mall
DESCRIPTION:The Trust for the National Mall announced that a limited number of individual tickets are available for its signature gala BALL for THE MALL. Make your plans to join us at 6:30 PM on May 8 to celebrate 2024 honorees and support the Trust’s work with the National Park Service to preserve and elevate the National Mall!\n\n\n\n\n\n\n\n\n\n\n\n\n\n\n\n\n\n\n\n\n\n\n\n\n\n\n\n\n\n\n\nBALL for THE MALL | MAY 8\, 2024\n6:30 PM — General Reception\n7:30 PM — Dinner & Program\n9:30 PM — Dessert Reception\n\n\n\n\n\n\n\n\n\n\n\n\n\n\n\n\n\n\n\n\n\n\n\n\n\n\n\n\n\n\nMake your plans to join 600+ Washingtonians\, corporate and government leaders\, philanthropists and champions for one unforgettable night on America’s Front Yard. \nBALL for THE MALL features the History\, Heroes & Hope Awards\, honoring individuals and institutions that embody the ideals of the National Mall. This year’s theme is “A Celebration of Storytelling on the National Mall.” It honors three unique storytellers who share a dedication to deepening the collective understanding\, sharing stories yet untold\, and connecting history\, stories and perspectives across generations.\n\n\n\n\n\n\n\n\n\n\n\n\n\n\n\n\n\n\n\n\n\n\n\n\n\n\n\n\n\n\nThe 2024 History\, Heroes & Hope Awards will honor…\n\n\n\n\n\n\n\n\n\n\n\n\n\n\n\n\nDave Grohl \nNineteen-time Grammy Award-winning musician and songwriter\, founder and lead singer of Foo Fighters\, best-selling author of The Storyteller: Tales of Life and Music\, and D.C. area native and favorite son.\n\n\n\n\n\n\n\n\n\n\n\n\n\n\n\n\nThe Mellon Foundation\nAccepted by President Elizabeth Alexander\nThis leading arts and humanities foundation will be recognized for their vision and support for the acclaimed Beyond Granite initiative and art exhibition led by the Trust for the National Mall in 2023.\n\n\n\n\n\n\n\n\n\n\n\n\n\n\n\n\nGeorge C. Wolfe\nRenowned filmmaker and five-time Tony Award-winner who brought “RUSTIN” film to life\, along with Netflix and Higher Ground Productions\, sharing the story behind the March on Washington\, which defined the National Mall as America’s Civic Stage.\n\n\n\n\n\n\n\n\n\n\n\n\n\n\n\n\n\n\n\n\n\n\n\n\n\n\n\n\n\n\nDuring BALL for THE MALL\, attendees will reflect on the Beyond Granite exhibition\, supported by the Mellon Foundation\, which earned critical acclaim in 2023 for bringing new stories to the National Mall. There will also be a spotlight and preview of groundbreaking new educational experiences and programming that will tell the story of the nation’s founding and Trust for the National Mall’s exciting work with the National Park Service to prepare for the Semiquincentennial—the 250th anniversary of American independence in 2026. The Trust for the National Mall and the National Park Service are working to prepare the iconic National Mall to play center stage for this historic commemoration.
URL:https://kstreetmagazine.com/event/ball-for-the-mall/
LOCATION:National Mall
CATEGORIES:Charitable Event,Gala
END:VEVENT
BEGIN:VEVENT
DTSTART;TZID=UTC:20240420T110000
DTEND;TZID=UTC:20240420T170000
DTSTAMP:20260424T125121
CREATED:20240323T130825Z
LAST-MODIFIED:20240323T130825Z
UID:59199-1713610800-1713632400@kstreetmagazine.com
SUMMARY:91st Georgetown House Tour
DESCRIPTION:On Saturday\, April 20\, 2024\, St. John’s Episcopal Church will host the 91st Georgetown House Tour\, which is believed to be the oldest\, most prestigious house tour in the country. \nThis annual event\, which attracts more than 1\,800 guests each year\, gives locals and out-of-towners alike the opportunity to visit historic homes in a variety of styles.  Some exceptional homes and landmarks will be presented this year highlighting the charm and history of Georgetown’s past with modern design and architectural enhancements showing the evolution of the times. \nThe self-guided tour begins at St. John’s Church where guests will receive a House Tour Magazine (which serves as the ticket to the tour) complete with an interactive map and historic information about each property.  Attendees will also receive complimentary admission to The Parish Tea\, which will be held in Blake Hall at historic St. John’s Church\, from 1:30 p.m. to 4:30 p.m.  In addition to tea and lemonade\, guests will enjoy delightful tea sandwiches and delicious desserts made by St. John’s members and generous community partners. \nAdvanced tickets for this event are priced at $60 per person ($55 per person for groups of 10 or more) and are available for purchase here.  Tickets may also be purchased at St. John’s Episcopal Church on the day of the tour at 3240 O Street\, NW\, 20007\, and are priced at $65 per person. \n  \nWHEN:          The Georgetown House Tour will be held Saturday\, April 20\, 2024.  Homes will be open from 11 a.m. to 5 p.m.  The Parish Tea will be served in Blake Hall at the historic St. John’s Episcopal Church Georgetown\, from 1:30 p.m. to 4:30 p.m. \nWHERE:       St. John’s Episcopal Church is located at 3240 O Street\, NW\, Washington\, DC 20007.      \nWHY:             St. John’s Episcopal Church\, Georgetown Parish and has a long and storied history. The original church building was built in 1796 and completed in 1804.  President Thomas Jefferson and Francis Scott Key\, author of our National Anthem\, were founding members of the church.  Dolley Madison was a regular attendee.  St. John’s has continued to grow and now has many programs for parishioners and the larger Washington\, D.C. community.  St. John’s Church is engaged in many outreach programs\, which are supported\, in part\, by the Georgetown House Tour.  Over the past few years\, St. John’s has funded a broad range of human service organizations\, including: Bishop Walker School\, Bright Beginnings\, Cornerstone Community\, Seabury Senior Ministries\, Georgetown Ministry Center\, Grate Patrol\, Jubilee Jobs\, DC Volunteer Lawyers Project\, Manna\, Metro Teens & Pediatric AIDS\, New Futures\, and Joseph House (all in the Washington metro area)\, in addition to Seafarers & International House\, American Near East Refugee Aid\, Episcopal Diocese of Jerusalem\, and Honduras Support through the Episcopal Diocese of Washington.
URL:https://kstreetmagazine.com/event/91st-georgetown-house-tour-2/
LOCATION:St. John’s Episocopal Church\, 3240 O Street\, NW\, Washington\, DC\, 20007
CATEGORIES:Charitable Event,Other Entertainment
END:VEVENT
BEGIN:VEVENT
DTSTART;TZID=UTC:20240420T110000
DTEND;TZID=UTC:20240420T170000
DTSTAMP:20260424T125121
CREATED:20240206T020642Z
LAST-MODIFIED:20240206T020642Z
UID:59112-1713610800-1713632400@kstreetmagazine.com
SUMMARY:91st Georgetown House Tour
DESCRIPTION:On Saturday\, April 20\, 2024\, St. John’s Episcopal Church will host the 91st Georgetown House Tour\, which is believed to be the oldest\, most prestigious house tour in the country.  This annual event\, which attracts more than 1\,800 guests each year\, gives locals and out-of-towners alike the opportunity to visit historic homes in a variety of styles.  Some exceptional homes and landmarks will be presented this year highlighting the charm and history of Georgetown’s past with modern design and architectural enhancements showing the evolution of the times. \nThe self-guided tour begins at St. John’s Church where guests will receive a House Tour Magazine (which serves as the ticket to the tour) complete with an interactive map and historic information about each property.  Attendees will also receive complimentary admission to The Parish Tea\, which will be held in Blake Hall at historic St. John’s Church\, from 1:30 p.m. to 4:30 p.m.  In addition to tea and lemonade\, guests will enjoy delightful tea sandwiches and delicious desserts made by St. John’s members and generous community partners. \nAdvanced tickets for this event are priced at $60 per person ($55 per person for groups of 10 or more) and are available for purchase here.  Tickets may also be purchased at St. John’s Episcopal Church on the day of the tour at 3240 O Street\, NW\, 20007\, and are priced at $65 per person. \n  \nWHEN:          Saturday\, April 20\, 2024.  Homes will be open from 11 a.m. to 5 p.m.  The Parish Tea will be served at the historic St. John’s Episcopal Church Georgetown\, from 1:30 p.m. to 4:30 p.m. \n\nWHERE:       St. John’s Episcopal Church is located at 3240 O Street\, NW\, Washington\, DC 20007. \n                         \nWHY:             St. John’s Episcopal Church\, Georgetown Parish and has a long and storied history. The original church building was built in 1796 and completed in 1804.  President Thomas Jefferson and Francis Scott Key\, author of our National Anthem\, were founding members of the church and Dolley Madison was a regular attendee.  St. John’s has continued to grow and now has many programs for parishioners and the larger Washington\, D.C. community.  St. John’s Church is engaged in many outreach programs\, which are supported\, in part\, by the Georgetown House Tour.  Over the past few years\, St. John’s has funded a broad range of human service organizations\, including: Bishop Walker School\, Bright Beginnings\, Cornerstone Community\, Seabury Senior Ministries\, Georgetown Ministry Center\, Grate Patrol\, Jubilee Jobs\, DC Volunteer Lawyers Project\, Manna\, Metro Teens & Pediatric AIDS\, New Futures\, and Joseph House (all in the Washington metro area)\, in addition to Seafarers & International House\, American Near East Refugee Aid\, Episcopal Diocese of Jerusalem\, and Honduras Support through the Episcopal Diocese of Washington.
URL:https://kstreetmagazine.com/event/91st-georgetown-house-tour/
LOCATION:DC
CATEGORIES:Charitable Event
END:VEVENT
BEGIN:VEVENT
DTSTART;TZID=UTC:20240217T170000
DTEND;TZID=UTC:20240217T190000
DTSTAMP:20260424T125121
CREATED:20240206T020035Z
LAST-MODIFIED:20240206T020035Z
UID:59104-1708189200-1708196400@kstreetmagazine.com
SUMMARY:Rural Dog Rescue Event at Whitlow's
DESCRIPTION:Beginning Saturday\, February 17 from 5 until 7 pm\, John Williams of Whitlow’s will host monthly fundraisers at his restaurant to bring attention to Rural Dog Rescue\, an all-volunteer organization that saves high risk dogs from kill shelters. \nIts focus is on saving dogs that are most in danger of being euthanized – black dogs\, seniors\, and hounds in particular. Representatives will be at the event with information on available dogs. \nThe event\, sponsored by Tito’s\, will feature free trivia hosted by Anywhere Trivia League plus  a raffle  with 100% of proceeds going to the rescue organization with prizes like dog training classes\, Tito’s neon signs and coolers. Whitlow’s will donate 10% of all sales during the event to Rural Dog Rescue. \nAdditionally\, Rural Dog Rescue will receive during February and March\,  $1 from the sale of the “Dog Days” cocktail: Titos\, Aperol\, White Cranberry\, Hibiscus and lemon. \n\nWhitlow’s & Tito’s Rural Dog Rescue fundraiser – Saturday Feb 17 – 5-7 pm \nwww.Whitlows.com
URL:https://kstreetmagazine.com/event/rural-dog-rescue-event-at-whitlows/
LOCATION:Whitlow’s\, 901 U Street NW\, Washington\, DC\, 20001
CATEGORIES:Charitable Event
END:VEVENT
END:VCALENDAR