BEGIN:VCALENDAR
VERSION:2.0
PRODID:-//K Street Magazine - ECPv6.15.20//NONSGML v1.0//EN
CALSCALE:GREGORIAN
METHOD:PUBLISH
X-WR-CALNAME:K Street Magazine
X-ORIGINAL-URL:https://kstreetmagazine.com
X-WR-CALDESC:Events for K Street Magazine
REFRESH-INTERVAL;VALUE=DURATION:PT1H
X-Robots-Tag:noindex
X-PUBLISHED-TTL:PT1H
BEGIN:VTIMEZONE
TZID:UTC
BEGIN:STANDARD
TZOFFSETFROM:+0000
TZOFFSETTO:+0000
TZNAME:UTC
DTSTART:20240101T000000
END:STANDARD
END:VTIMEZONE
BEGIN:VEVENT
DTSTART;TZID=UTC:20251118T173000
DTEND;TZID=UTC:20251118T200000
DTSTAMP:20260423T084652
CREATED:20251028T182522Z
LAST-MODIFIED:20251028T182522Z
UID:61195-1763487000-1763496000@kstreetmagazine.com
SUMMARY:Hillwood Frederick J. Fisher Lecture | The Washington Hostess-with-the-Mostest
DESCRIPTION:In the thirteenth annual Frederick J. Fisher lecture\, Meryl Gordon\, award-winning journalist\, will discuss the rollicking life and legacy of Perle Mesta\, diplomat\, feminist\, and hostess\, highlighting her contributions to American politics and the feminist movement. \nTuesday\, November 18\, 2025\n5:30-8 p.m.\nReception begins at 6 p.m. | Lecture begins at at 6:30 p.m. \n\n\nRegister\n\n\n\n\nEnjoy this lecture live at Hillwood or presented virtually via Zoom. All in-person attendees are invited to a pre-lecture reception\, held in honor of Frederick J. Fisher\, Hillwood’s former executive director. \nIn person: $22\, $12 for Hillwood members\nLivestream: $10\, Free for Hillwood members\nNot a member? Join today!
URL:https://kstreetmagazine.com/event/hillwood-frederick-j-fisher-lecture-the-washington-hostess-with-the-mostest/
LOCATION:Hillwood Museum & Gardens\, 4155 Linnean Avenue\, NW\, Washington\, DC\, 20008
CATEGORIES:Book/Author
END:VEVENT
END:VCALENDAR