BEGIN:VCALENDAR
VERSION:2.0
PRODID:-//K Street Magazine - ECPv6.15.20//NONSGML v1.0//EN
CALSCALE:GREGORIAN
METHOD:PUBLISH
X-WR-CALNAME:K Street Magazine
X-ORIGINAL-URL:https://kstreetmagazine.com
X-WR-CALDESC:Events for K Street Magazine
REFRESH-INTERVAL;VALUE=DURATION:PT1H
X-Robots-Tag:noindex
X-PUBLISHED-TTL:PT1H
BEGIN:VTIMEZONE
TZID:UTC
BEGIN:STANDARD
TZOFFSETFROM:+0000
TZOFFSETTO:+0000
TZNAME:UTC
DTSTART:20250101T000000
END:STANDARD
END:VTIMEZONE
BEGIN:VEVENT
DTSTART;TZID=UTC:20260326T180000
DTEND;TZID=UTC:20260326T200000
DTSTAMP:20260423T141910
CREATED:20260325T130236Z
LAST-MODIFIED:20260325T130236Z
UID:61813-1774548000-1774555200@kstreetmagazine.com
SUMMARY:Cry n' Vibe Retail Therapy @ Madewell
DESCRIPTION:Crying in D.C.\, Washington D.C.’s local guide to the hottest crying spots in the District\, is partnering with Madewell Jeans for Cry n’ Vibe\, Retail Therapy: a curated\, Women’s History Month event combining a facilitated conversation about women’s relationships with fashion\, bodies\, and self-image with a live Madewell shopping experience. The event is part live discussion\, part cultural reckoning\, and part shopping night\, designed to give women a rare space to talk about how clothes really make us feel. \nWHO: \n\n\nOlivia\, founder and host of Cry n’ Vibe — women’s community platform \n\n\nMadewell Jeans — national denim and lifestyle brand \n\n\nFrankie L. Bethea — lecturer at the Howard University Chadwick A. Boseman College of Fine Arts \n\n\nWHEN: \nMarch 26\, 2026  |  6:00PM  – 8:00PM \nWHERE: \nMadwell \n1237 Wisconsin Avenue Northwest \nWashington\, DC 20007 \nWHY IT MATTERS: \nWomen’s History Month is a time where we honor and celebrate the deep and rich history of women\, with fashion being a deeply underexplored dimension of that history. From corsets that restricted movement to sizing systems designed for a narrow ideal\, to the feminism surrounding women wearing pants and denim at the turn of the century\, what women wear has been used to define\, diminish\, and control. Retail Therapy creates space for women to name that history\, challenge the shame often attached to fashion and body image\, and reclaim how they feel in their clothes.
URL:https://kstreetmagazine.com/event/cry-n-vibe-at-madewell/
LOCATION:Madewell\, 1237 Wisconsin Avenue Northwest\, Washington\, DC\, 20007
CATEGORIES:Other Entertainment,Shopping
END:VEVENT
BEGIN:VEVENT
DTSTART;TZID=UTC:20260326T193000
DTEND;TZID=UTC:20260326T203000
DTSTAMP:20260423T141910
CREATED:20260305T134546Z
LAST-MODIFIED:20260305T134546Z
UID:61716-1774553400-1774557000@kstreetmagazine.com
SUMMARY:Kate DiCamillo Delivers Folger's 2026 Eudora Welty Lecture
DESCRIPTION:On Thursday\, March 26 at 7:30pm\, the Folger Shakespeare Library and the Eudora Welty Foundation welcome one of America’s most beloved storytellers\, author Kate DiCamillo\, to deliver the 2026 Welty Lecture\, inspired by the writing and life of famed author Eudora Welty. DiCamillo will talk about her career as a best-selling author including stories about her early experiences with the publishing industry to her writing influences and the evolution of her work. \nSome of DiCamillo’s best-known novels include Because of Winn-Dixie (2000)\, The Tale of Despereaux (2003)\, and Flora & Ulysses (2013)\, which have all been adapted into popular family films. She is a former National Ambassador for Young People’s Literature and a two-time Newbery Medalist. \n“I was nineteen years old when I read Eudora Welty’s ‘Why I Live at the P.O.’” DiCamillo shared. “The story electrified and delighted me. I remember thinking\, ‘This is what I want to do.’ Welty’s words have been a beacon for me since that moment. I owe her a tremendous debt. It is a very great honor for me to give this lecture.” \n“Kate DiCamillo writes books for children that can also be read by adults\, adults who can bear to remember how terrifying and mystifying and full of wonder childhood actually was\,” added former Welty Lecturer and acclaimed author Ann Patchett (Bel Canto\, The Dutch House)\, who will introduce DiCamillo. “When\, in my fifties\, I read her books\, I felt like I had found a magic portal. All I had to do to pass through was believe that I was still small enough to fit.” \nA book-signing and wine reception will follow the talk. \nTickets are $25 and can be purchased at folger.edu/welty or by contacting the Folger Box Office at (202) 544-7077. The Welty lecture will also be available for online viewing from April 6 through June 30 for $15 at the above link. \nPrevious Welty Lectures were delivered by Salman Rushdie\, Chimamanda Ngozi Adichie\, Richard Ford\, Jesmyn Ward\, Ann Patchett\, Elizabeth Strout\, Natasha Trethewey\, and Amor Towles.
URL:https://kstreetmagazine.com/event/kate-dicamillo-delivers-folgers-2026-eudora-welty-lecture/
LOCATION:Folger Shakespeare Library\, 201 E Capital Street NE\, Washington\, DC\, DC\, 20002
CATEGORIES:Book/Author
END:VEVENT
END:VCALENDAR