BEGIN:VCALENDAR
VERSION:2.0
PRODID:-//K Street Magazine - ECPv6.15.20//NONSGML v1.0//EN
CALSCALE:GREGORIAN
METHOD:PUBLISH
X-ORIGINAL-URL:https://kstreetmagazine.com
X-WR-CALDESC:Events for K Street Magazine
REFRESH-INTERVAL;VALUE=DURATION:PT1H
X-Robots-Tag:noindex
X-PUBLISHED-TTL:PT1H
BEGIN:VTIMEZONE
TZID:UTC
BEGIN:STANDARD
TZOFFSETFROM:+0000
TZOFFSETTO:+0000
TZNAME:UTC
DTSTART:20250101T000000
END:STANDARD
END:VTIMEZONE
BEGIN:VEVENT
DTSTART;TZID=UTC:20260324T183000
DTEND;TZID=UTC:20260324T193000
DTSTAMP:20260423T143705
CREATED:20260305T131742Z
LAST-MODIFIED:20260305T131742Z
UID:61712-1774377000-1774380600@kstreetmagazine.com
SUMMARY:Wristwatches in the 20th Century And How To Collect Them
DESCRIPTION:The Development of Wristwatches in the 20th Century And How To Collect Them\n\n\nThis is the second program in the On Time: Giving Form to the Fleeting exhibition lecture series.\nJoin Eric Wind\, one of the world’s leading experts on vintage watches\, for this talk exploring the history of the wristwatch\, as well as how to collect them! The 20th century saw the birth and rise of the wristwatch. Watches are now a key fashion accessory and have reached into the tens of millions of dollars at auction. \nHYBRID PROGRAM\nThis lecture will be presented in the theater in the Ellen MacNeille Charles Visitor Center and will be livestreamed via Zoom. Visitors can submit questions for the speaker from any location. \nIN-PERSON TIMELINE\n5:30–6:30 p.m. | Explore Hillwood \n\nEnjoy Hillwood’s mansion\, gardens\,  greenhouse\, and exhibition\, On Time: Giving Form to the Fleeting\, on view in the dacha\nFind the perfect memento from your visit at the museum shop.\n\n6:30–7:30 p.m. | Lecture
URL:https://kstreetmagazine.com/event/wristwatches-in-the-20th-century-and-how-to-collect-them/
LOCATION:Hillwood Museum & Gardens\, 4155 Linnean Avenue\, NW\, Washington\, DC\, 20008
CATEGORIES:Other Entertainment
END:VEVENT
END:VCALENDAR