BEGIN:VCALENDAR
VERSION:2.0
PRODID:-//K Street Magazine - ECPv6.15.20//NONSGML v1.0//EN
CALSCALE:GREGORIAN
METHOD:PUBLISH
X-ORIGINAL-URL:https://kstreetmagazine.com
X-WR-CALDESC:Events for K Street Magazine
REFRESH-INTERVAL;VALUE=DURATION:PT1H
X-Robots-Tag:noindex
X-PUBLISHED-TTL:PT1H
BEGIN:VTIMEZONE
TZID:UTC
BEGIN:STANDARD
TZOFFSETFROM:+0000
TZOFFSETTO:+0000
TZNAME:UTC
DTSTART:20250101T000000
END:STANDARD
END:VTIMEZONE
BEGIN:VEVENT
DTSTART;VALUE=DATE:20260207
DTEND;VALUE=DATE:20260209
DTSTAMP:20260425T151407
CREATED:20260109T132952Z
LAST-MODIFIED:20260109T132952Z
UID:61419-1770422400-1770595199@kstreetmagazine.com
SUMMARY:22nd Annual Alexandria Warehouse Sale 
DESCRIPTION:What: 22nd Annual Alexandria Warehouse Sale \nWhen: Saturday & Sunday – February 7 & 8\, 2026 \nWhere: Throughout Old Town Alexandria\, VA \nTime: During normal store hours (varies by retailer) \nEvent Details: \nJoin Alexandria’s longest-running regional winter shopping tradition Alexandria’s Warehouse Sale\, returning February 7–8\, 2026. This beloved event once hosted at the Westin Alexandria has grown into a walkable shopping experience across Old Town Alexandria that draws shoppers from across the Mid-Atlantic for an annual winter tradition centered on style\, savings\, and supporting local businesses. \nMore than 40 independent boutiques from Alexandria and the surrounding region will offer 60–80% off retail prices on clothing\, shoes\, jewelry\, home décor\, kids\, and more\, including shops like 3 Sisters\, Era\, Encore Consignment Boutique\, Boomers\, Boxwood\, Look Again\, Mint Condition\, The Pink Reef\, Serfiano Leather\, The Hive/The Shoe Hive\, and more. \nSales will take place in storefronts\, pop-up tents\, and open retail spaces along King Street and select side streets. Shoppers can follow a downloadable sale map and on-site QR codes to navigate and find the best deals. For sneak peeks\, giveaways\, and special activations leading up to the weekend\, follow @alxwarehousesale on Instagram. \nFor the full list of participating stores and their deals\, see here. Sponsored by Kristen Jones Real Estate.
URL:https://kstreetmagazine.com/event/22nd-annual-alexandria-warehouse-sale/
LOCATION:Alexandria Various
CATEGORIES:Shopping
END:VEVENT
BEGIN:VEVENT
DTSTART;TZID=UTC:20260207T100000
DTEND;TZID=UTC:20260207T170000
DTSTAMP:20260425T151407
CREATED:20260124T223019Z
LAST-MODIFIED:20260124T223019Z
UID:61482-1770458400-1770483600@kstreetmagazine.com
SUMMARY:Crêpe Day at Hillwood
DESCRIPTION:La Chandeleur\, also known as Crêpe Day\, marks the halfway point between winter and spring.\nIn France\, families celebrate by eating crêpes\, which are round and golden like the springtime sun. We are excited to offer two days of fun to celebrate the holiday. \nWe invite families to celebrate this holiday in festive French fashion amidst Hillwood’s magnificent setting and exquisite French treasures.\n\nSnack on a tasty treat of sweet crêpes (2 per person)\nHear tales inspired by classic French La Fontaine fables as told by storyteller Natasha Mirny\nDecorate a plastic plate with fanciful designs and flourishes inspired by Hillwood’s French Sèvres porcelain\n\nEVENT TIMELINE\n10 a.m.–5 p.m. | Explore Hillwood\n\nCrêpes (2 per person) | C.W. Post Center | 10 a.m.–4 p.m.\nStorytelling (15-minute performance) | Visitor Center Theater | 10:30 a.m.\, 11:30 a.m.\, 1:30 p.m.\, 2:30 p.m.\nArt Project & Hands-on Activities | Visitor Center Conservatory | 10 a.m.-5 p.m.\nExplore the mansion\, gardens\, and greenhouse | 10 a.m.-5 p.m.\nMerriweather Café is open for counter service | 11:30 a.m.-4 p.m.\nVisit the Museum Shop to find the perfect souvenir | 10 a.m.-5 p.m.\n\nLimited space available; advanced registration is highly recommended.
URL:https://kstreetmagazine.com/event/crepe-day-at-hillwood/
LOCATION:Hillwood Museum & Gardens\, 4155 Linnean Avenue\, NW\, Washington\, DC\, 20008
CATEGORIES:Cultural
END:VEVENT
BEGIN:VEVENT
DTSTART;TZID=UTC:20260207T150000
DTEND;TZID=UTC:20260207T183000
DTSTAMP:20260425T151407
CREATED:20260124T141114Z
LAST-MODIFIED:20260124T141114Z
UID:61445-1770476400-1770489000@kstreetmagazine.com
SUMMARY:Mosaic Theatre Co's The Spark Benefit
DESCRIPTION:Mosaic Theater Company\nThe Spark\nPart of the Young John Lewis Reflection Series \nDATE/TIME: February 7\, 2026\, 3:00 – 6:30 p.m.\nLOCATION: Atlas Performing Arts Center (Ward 6)\, 1333 H Street NE\, DC 20002\nTickets: HERE \nMosaic’s annual benefit event will honor local “Good Trouble” leaders Susan Clampitt (former Deputy Chair for Programs at the National Endowment for the Arts)\, Andy Shallal (Founder & CEO of Busboys & Poets)\, and George Vradenburg (civic leader and founder of Mosaic’s Trish Vradenburg Play Commission\, honoring his late wife’s contributions to the arts by supporting emerging female playwrights). The event will feature special performances and highlights from Young John Lewis: Prodigy of Protest\, preview of this summer’s Precarious\, and a sneak peek of Mosaic’s 26-27 season.
URL:https://kstreetmagazine.com/event/mosaic-theatre-cos-the-spark-benefit/
LOCATION:Atlas Performing Arts Center\, 1333 H Street NE\, Washington\, DC\, 20002
CATEGORIES:Arts/Theatre,Charitable Event,Other Entertainment
END:VEVENT
BEGIN:VEVENT
DTSTART;TZID=UTC:20260207T190000
DTEND;TZID=UTC:20260207T210000
DTSTAMP:20260425T151407
CREATED:20260124T140750Z
LAST-MODIFIED:20260124T140750Z
UID:61443-1770490800-1770498000@kstreetmagazine.com
SUMMARY:The King's Singers Concert
DESCRIPTION:The King’s Singers: Washington\, D.C.\nDATE/TIME: February 6\, 2026 & February 7\, 2026\, 7 p.m.\nLOCATION: The Washington National Cathedral\, Washington\, D.C.\nTICKETS: Purchase here \nThe King’s Singers bring their impeccable vocal artistry to two iconic venues this winter in New York and Washington\, D.C. The world-renowned British ensemble will offer an enchanting evening of harmony\, wit\, and vocal precision with Angels & Demons\, a program spanning more than 500 years of choral music that explores both the light and the shadows of the human experience. Presented February 6–7 in the awe-inspiring Washington National Cathedral\, the performance also features a second half devoted to the group’s signature close-harmony style.
URL:https://kstreetmagazine.com/event/the-kings-singers-concert-2/
LOCATION:Washington National Cathedral\, 3101 Wisconsin Ave NW\, Washington\, DC
CATEGORIES:Music/Concert
END:VEVENT
END:VCALENDAR