BEGIN:VCALENDAR
VERSION:2.0
PRODID:-//K Street Magazine - ECPv6.15.20//NONSGML v1.0//EN
CALSCALE:GREGORIAN
METHOD:PUBLISH
X-ORIGINAL-URL:https://kstreetmagazine.com
X-WR-CALDESC:Events for K Street Magazine
REFRESH-INTERVAL;VALUE=DURATION:PT1H
X-Robots-Tag:noindex
X-PUBLISHED-TTL:PT1H
BEGIN:VTIMEZONE
TZID:UTC
BEGIN:STANDARD
TZOFFSETFROM:+0000
TZOFFSETTO:+0000
TZNAME:UTC
DTSTART:20240101T000000
END:STANDARD
END:VTIMEZONE
BEGIN:VEVENT
DTSTART;TZID=UTC:20250917T053000
DTEND;TZID=UTC:20250917T200000
DTSTAMP:20260421T110245
CREATED:20250719T203739Z
LAST-MODIFIED:20250719T203739Z
UID:60714-1758087000-1758139200@kstreetmagazine.com
SUMMARY:Jazz in the Gardens | An Evening of Afro-Caribbean Jazz
DESCRIPTION:Jazz in the Gardens | An Evening of Afro-Caribbean Jazz\nWednesday\, September 17\, 2025\, 5:30-8 p.m.\nEnjoy an outdoor evening concert on Hillwood’s Lunar Lawn and be transported by the sound of the steel pan\, with a performance featuring Marshall Keys and some of the finest jazz musicians in the D.C. area.\nwww.HillwoodMuseum.org \n4155 Linnean Avenue\, NW\, Washington\, DC 20008
URL:https://kstreetmagazine.com/event/jazz-in-the-gardens-an-evening-of-afro-caribbean-jazz/
LOCATION:Hillwood Museum & Gardens\, 4155 Linnean Avenue\, NW\, Washington\, DC\, 20008
CATEGORIES:Music/Concert
END:VEVENT
BEGIN:VEVENT
DTSTART;TZID=UTC:20250917T173000
DTEND;TZID=UTC:20250917T200000
DTSTAMP:20260421T110245
CREATED:20250827T011938Z
LAST-MODIFIED:20250827T011938Z
UID:60939-1758130200-1758139200@kstreetmagazine.com
SUMMARY:Jazz in the Garden
DESCRIPTION:Spend an evening in the gardens\, and enjoy an outdoor concert performed by D.C.’s Marshall Keys and local musicians and presented by executive producer Donna Limerick. \n\n\n\n\n\n\nAn Evening of Afro-Caribbean Jazz\nWednesday\, September 17\, 2025\, 5:30-8 p.m.\nConcert begins at 6:30 p.m. \nDelight in the unique melodies of Afro-Caribbean jazz and be transported by the sound of the steel pan. \n\n\nRegister\n\n\n\n\n\n\n\nPrior to the performance\, enjoy Hillwood’s mansion\, gardens\, the special exhibition From Exile to Avant-Garde: The Life of Princess Natalie Paley\, greenhouse\, museum shop\, and a delightful selection of food and drinks from Merriweather To Go.
URL:https://kstreetmagazine.com/event/jazz-in-the-garden-2/
LOCATION:Hillwood Museum & Gardens\, 4155 Linnean Avenue\, NW\, Washington\, DC\, 20008
CATEGORIES:Music/Concert
END:VEVENT
END:VCALENDAR