BEGIN:VCALENDAR
VERSION:2.0
PRODID:-//K Street Magazine - ECPv6.15.20//NONSGML v1.0//EN
CALSCALE:GREGORIAN
METHOD:PUBLISH
X-WR-CALNAME:K Street Magazine
X-ORIGINAL-URL:https://kstreetmagazine.com
X-WR-CALDESC:Events for K Street Magazine
REFRESH-INTERVAL;VALUE=DURATION:PT1H
X-Robots-Tag:noindex
X-PUBLISHED-TTL:PT1H
BEGIN:VTIMEZONE
TZID:UTC
BEGIN:STANDARD
TZOFFSETFROM:+0000
TZOFFSETTO:+0000
TZNAME:UTC
DTSTART:20240101T000000
END:STANDARD
END:VTIMEZONE
BEGIN:VEVENT
DTSTART;TZID=UTC:20250830T120000
DTEND;TZID=UTC:20250830T170000
DTSTAMP:20260425T120457
CREATED:20250829T014608Z
LAST-MODIFIED:20250829T014608Z
UID:60941-1756555200-1756573200@kstreetmagazine.com
SUMMARY:National Chess Master David Bennett at Westfield Montgomery Chess Lounge
DESCRIPTION:On Saturday\, August 30\, National Chess Master\, David Bennett will join the Westfield Montgomery Chess Lounge to simultaneously play 20 attendees. Guests can register onsite at noon. Open play is also available. \nWho: \nDavid Bennett is a United States National Master and International Candidate Master of Chess\, who has competed internationally and is now a chess coach. Led by the Chess Alliance\, a collaboration of regional nonprofits including Chess Girls DC\, the DC Chess Association\, Big Chair Chess Club\, and LiveChess Club\, this initiative offers a uniquely tailored third space that brings live\, analog interaction back into community spaces. All events are free to the public and event schedules can be found at chessalliance.org. \n  \nWhen: \nSaturday\, August 30\, 12pm – 5pm \n  \nWhere: \nWestfield Montgomery’s Center Court\, Level 1\, 7101 Democracy Boulevard\, Bethesda\, MD
URL:https://kstreetmagazine.com/event/national-chess-master-david-bennett-at-westfield-montgomery-chess-lounge/
LOCATION:Westfield Montgomery Mall\, 7101 Democracy Blvd.\, Bethesda\, MD\, 20817
CATEGORIES:Other Entertainment
END:VEVENT
END:VCALENDAR