BEGIN:VCALENDAR
VERSION:2.0
PRODID:-//K Street Magazine - ECPv6.15.20//NONSGML v1.0//EN
CALSCALE:GREGORIAN
METHOD:PUBLISH
X-ORIGINAL-URL:https://kstreetmagazine.com
X-WR-CALDESC:Events for K Street Magazine
REFRESH-INTERVAL;VALUE=DURATION:PT1H
X-Robots-Tag:noindex
X-PUBLISHED-TTL:PT1H
BEGIN:VTIMEZONE
TZID:UTC
BEGIN:STANDARD
TZOFFSETFROM:+0000
TZOFFSETTO:+0000
TZNAME:UTC
DTSTART:20240101T000000
END:STANDARD
END:VTIMEZONE
BEGIN:VEVENT
DTSTART;TZID=UTC:20250328T183000
DTEND;TZID=UTC:20250328T203000
DTSTAMP:20260425T151423
CREATED:20250131T131600Z
LAST-MODIFIED:20250131T131600Z
UID:59929-1743186600-1743193800@kstreetmagazine.com
SUMMARY:Grand Budapest Hotel Screening at the National Building Museum
DESCRIPTION:Join the National Building Museum for a one-of-a-kind evening of cinema\, conversation\, and community. Its Great Movies in the Great Hall series blends expert insights with visually stunning films\, offering a deeper appreciation of storytelling\, culture\, and artistry. Each event begins with a discussion led by scholars and industry experts\, exploring the film’s themes\, historical influences\, and cultural impact. Then immerse yourself in a cinematic masterpiece on the big screen. \nTHE GRAND BUDAPEST HOTEL\nFriday\, March 28 | 6:30 to 9 pm \nStep into the whimsical world of The Grand Budapest Hotel\, Wes Anderson’s visually stunning tale set in 1930s Europe. The film follows the adventures of a hotel manager as he faces the rise of totalitarianism. In a special talk\, film critic Pat Finn will explore Anderson’s signature visual style and the themes of aesthetics and the humanizing virtues of a curated life.
URL:https://kstreetmagazine.com/event/grand-budapest-hotel-screening-at-the-national-building-museum/
LOCATION:National Building Museum\, 410 F Street NW\, Washington\, DC
CATEGORIES:Other Entertainment
END:VEVENT
END:VCALENDAR