BEGIN:VCALENDAR
VERSION:2.0
PRODID:-//K Street Magazine - ECPv6.15.20//NONSGML v1.0//EN
CALSCALE:GREGORIAN
METHOD:PUBLISH
X-WR-CALNAME:K Street Magazine
X-ORIGINAL-URL:https://kstreetmagazine.com
X-WR-CALDESC:Events for K Street Magazine
REFRESH-INTERVAL;VALUE=DURATION:PT1H
X-Robots-Tag:noindex
X-PUBLISHED-TTL:PT1H
BEGIN:VTIMEZONE
TZID:UTC
BEGIN:STANDARD
TZOFFSETFROM:+0000
TZOFFSETTO:+0000
TZNAME:UTC
DTSTART:19690101T000000
END:STANDARD
END:VTIMEZONE
BEGIN:VEVENT
DTSTART;TZID=UTC:20260425T120418
DTEND;TZID=UTC:20250316T150000
DTSTAMP:20260425T120418
CREATED:20250316T154010Z
LAST-MODIFIED:20250316T154010Z
UID:60095-0-1742137200@kstreetmagazine.com
SUMMARY:"Blossom Bash" at Tyson's Corner Center
DESCRIPTION:“Blossom Bash” Event \nSunday March 30\, 2025 \n11:00 a.m. – 3:00 p.m. \nThe Plaza at Tysons Corner Center \nTysons Corner Center will celebrate Cherry Blossom season with a vibrant festival on the \nPlaza\, featuring themed activities\, live art\, entertainment performances\, food sampling\, sip \n& stroll “pink drinks”\, official NCBF merchandise giveaways\, and more. \n\nEvent activities will include: \n●  Exhibits from 20 Tysons Corner Center retailers and restaurants\, showcasing their \nCherry Blossom themed offerings \n●  Live Chalk Art activation in partnership with ArtsFairfax featuring 20 local artists \n●  Family-friendly free activities including face painting \n●  Special performances by Cherry Blossom Parade talent: Washington Commanders \nCommand Force and the Washington Wizards Dance Team \n●  “PenFed Petals” activation during the event; PenFed Credit Union will be \ngiving away beautiful build-your-own bouquets featuring cherry blossom \nbranches and other seasonal flowers. Plus\, their flower wall will be available \nfor selfies. PenFed members get VIP access and premium bouquets. \n●  Custom “Pink Drinks” from Earl’s\, Eddie V’s\, and Barrel + Bushel. Guests can take their drinks to the Plaza to sip\, stroll\, and enjoy the event.
URL:https://kstreetmagazine.com/event/blossom-bash-at-tysons-corner-center/
LOCATION:Tyson’s Corner Center\, 1961 Chain Bridge Rd\, Tysons\, VA\, 22102
CATEGORIES:Other Entertainment
END:VEVENT
BEGIN:VEVENT
DTSTART;TZID=UTC:20250314T060000
DTEND;TZID=UTC:20250314T230000
DTSTAMP:20260425T120418
CREATED:20250119T150938Z
LAST-MODIFIED:20250119T150938Z
UID:59876-1741932000-1741993200@kstreetmagazine.com
SUMMARY:Pink Tie Party
DESCRIPTION:An annual signature event of the National Cherry Blossom Festival\, the Pink Tie Party will whisk guests away to be part of the blossom magic at the pinkest soiree on the DC social calendar. The event is presented by Union Station Washington D.C. and Design Cuisine. \nGuests will walk through themed halls inspired by some of the most vibrant springtime celebrations worldwide: Rio de Janeiro and Venice’s Carnivals\, and of course\, Washington\, DC’s National Cherry Blossom Festival. Guests flaunt their best pink and floral attire and experience each of the featured celebrations through carefully curated food and cocktails from local DC-area restaurants\, music\, experiences\, décor\, and more. \nTickets are $250 and can be purchased on the Festival website. Funds raised through ticket sales and a Benefit Auction where guests can bid on unique items support the mission of the National Cherry Blossom Festival\, to ensure events remain primarily free and open to the public. \n“The Pink Tie Party is the first opportunity the public can feel the blossom magic as it officially kicks off the National Cherry Blossom Festival’s signature events\,” said Diana Mayhew\, president and CEO of the National Cherry Blossom Festival. “I hope you’ll join us for an unforgettable evening of fun\, fashion\, and philanthropy as the Festival presents your passport to spring.” \nThe Pink Tie Party is also supported by All Nippon Airways (ANA). Other sponsors include City Cruises\, and media partners Audacy\, Washington Blade and Washingtonian.
URL:https://kstreetmagazine.com/event/pink-tie-party/
LOCATION:Union Station\, 50 Massachusetts Ave NE\, Washington\, DC\, 1613\, United States
CATEGORIES:Charitable Event
END:VEVENT
END:VCALENDAR