BEGIN:VCALENDAR
VERSION:2.0
PRODID:-//K Street Magazine - ECPv6.15.20//NONSGML v1.0//EN
CALSCALE:GREGORIAN
METHOD:PUBLISH
X-ORIGINAL-URL:https://kstreetmagazine.com
X-WR-CALDESC:Events for K Street Magazine
REFRESH-INTERVAL;VALUE=DURATION:PT1H
X-Robots-Tag:noindex
X-PUBLISHED-TTL:PT1H
BEGIN:VTIMEZONE
TZID:UTC
BEGIN:STANDARD
TZOFFSETFROM:+0000
TZOFFSETTO:+0000
TZNAME:UTC
DTSTART:19690101T000000
END:STANDARD
END:VTIMEZONE
BEGIN:VEVENT
DTSTART;TZID=UTC:20260425T104219
DTEND;TZID=UTC:20250316T150000
DTSTAMP:20260425T104219
CREATED:20250316T154010Z
LAST-MODIFIED:20250316T154010Z
UID:60095-0-1742137200@kstreetmagazine.com
SUMMARY:"Blossom Bash" at Tyson's Corner Center
DESCRIPTION:“Blossom Bash” Event \nSunday March 30\, 2025 \n11:00 a.m. – 3:00 p.m. \nThe Plaza at Tysons Corner Center \nTysons Corner Center will celebrate Cherry Blossom season with a vibrant festival on the \nPlaza\, featuring themed activities\, live art\, entertainment performances\, food sampling\, sip \n& stroll “pink drinks”\, official NCBF merchandise giveaways\, and more. \n\nEvent activities will include: \n●  Exhibits from 20 Tysons Corner Center retailers and restaurants\, showcasing their \nCherry Blossom themed offerings \n●  Live Chalk Art activation in partnership with ArtsFairfax featuring 20 local artists \n●  Family-friendly free activities including face painting \n●  Special performances by Cherry Blossom Parade talent: Washington Commanders \nCommand Force and the Washington Wizards Dance Team \n●  “PenFed Petals” activation during the event; PenFed Credit Union will be \ngiving away beautiful build-your-own bouquets featuring cherry blossom \nbranches and other seasonal flowers. Plus\, their flower wall will be available \nfor selfies. PenFed members get VIP access and premium bouquets. \n●  Custom “Pink Drinks” from Earl’s\, Eddie V’s\, and Barrel + Bushel. Guests can take their drinks to the Plaza to sip\, stroll\, and enjoy the event.
URL:https://kstreetmagazine.com/event/blossom-bash-at-tysons-corner-center/
LOCATION:Tyson’s Corner Center\, 1961 Chain Bridge Rd\, Tysons\, VA\, 22102
CATEGORIES:Other Entertainment
END:VEVENT
BEGIN:VEVENT
DTSTART;TZID=UTC:20250220T170000
DTEND;TZID=UTC:20250220T200000
DTSTAMP:20260425T104219
CREATED:20250206T013316Z
LAST-MODIFIED:20250206T013316Z
UID:59969-1740070800-1740081600@kstreetmagazine.com
SUMMARY:Love Ballad Karaoke
DESCRIPTION:Love Ballad Karaoke \nGuests can channel their inner rock star at Love Ballad Karaoke\, happening on February 6\, 13\, and 20 from 5 PM to 8 PM. Sing your favorite ballads while enjoying Happy Hour specials from 4 PM to 7 PM\, featuring: \n\n$1 Off Draft Beer\n$5 House Pours\n$6 Select Cocktails & House Wine
URL:https://kstreetmagazine.com/event/love-ballad-karaoke-3/
LOCATION:Hard Rock Cafe\, 999 E Street NW\, Washington\, DC
CATEGORIES:Music/Concert,Other Entertainment
END:VEVENT
END:VCALENDAR