BEGIN:VCALENDAR
VERSION:2.0
PRODID:-//K Street Magazine - ECPv6.15.20//NONSGML v1.0//EN
CALSCALE:GREGORIAN
METHOD:PUBLISH
X-WR-CALNAME:K Street Magazine
X-ORIGINAL-URL:https://kstreetmagazine.com
X-WR-CALDESC:Events for K Street Magazine
REFRESH-INTERVAL;VALUE=DURATION:PT1H
X-Robots-Tag:noindex
X-PUBLISHED-TTL:PT1H
BEGIN:VTIMEZONE
TZID:UTC
BEGIN:STANDARD
TZOFFSETFROM:+0000
TZOFFSETTO:+0000
TZNAME:UTC
DTSTART:19690101T000000
END:STANDARD
END:VTIMEZONE
BEGIN:VEVENT
DTSTART;TZID=UTC:20260423T141924
DTEND;TZID=UTC:20250316T150000
DTSTAMP:20260423T141924
CREATED:20250316T154010Z
LAST-MODIFIED:20250316T154010Z
UID:60095-0-1742137200@kstreetmagazine.com
SUMMARY:"Blossom Bash" at Tyson's Corner Center
DESCRIPTION:“Blossom Bash” Event \nSunday March 30\, 2025 \n11:00 a.m. – 3:00 p.m. \nThe Plaza at Tysons Corner Center \nTysons Corner Center will celebrate Cherry Blossom season with a vibrant festival on the \nPlaza\, featuring themed activities\, live art\, entertainment performances\, food sampling\, sip \n& stroll “pink drinks”\, official NCBF merchandise giveaways\, and more. \n\nEvent activities will include: \n●  Exhibits from 20 Tysons Corner Center retailers and restaurants\, showcasing their \nCherry Blossom themed offerings \n●  Live Chalk Art activation in partnership with ArtsFairfax featuring 20 local artists \n●  Family-friendly free activities including face painting \n●  Special performances by Cherry Blossom Parade talent: Washington Commanders \nCommand Force and the Washington Wizards Dance Team \n●  “PenFed Petals” activation during the event; PenFed Credit Union will be \ngiving away beautiful build-your-own bouquets featuring cherry blossom \nbranches and other seasonal flowers. Plus\, their flower wall will be available \nfor selfies. PenFed members get VIP access and premium bouquets. \n●  Custom “Pink Drinks” from Earl’s\, Eddie V’s\, and Barrel + Bushel. Guests can take their drinks to the Plaza to sip\, stroll\, and enjoy the event.
URL:https://kstreetmagazine.com/event/blossom-bash-at-tysons-corner-center/
LOCATION:Tyson’s Corner Center\, 1961 Chain Bridge Rd\, Tysons\, VA\, 22102
CATEGORIES:Other Entertainment
END:VEVENT
BEGIN:VEVENT
DTSTART;TZID=UTC:20250213T170000
DTEND;TZID=UTC:20250213T200000
DTSTAMP:20260423T141924
CREATED:20250206T013127Z
LAST-MODIFIED:20250206T013127Z
UID:59967-1739466000-1739476800@kstreetmagazine.com
SUMMARY:Love Ballad Karaoke
DESCRIPTION:Love Ballad Karaoke \nGuests can channel their inner rock star at Love Ballad Karaoke\, happening on February 6\, 13\, and 20 from 5 PM to 8 PM. Sing your favorite ballads while enjoying Happy Hour specials from 4 PM to 7 PM\, featuring: \n\n$1 Off Draft Beer\n$5 House Pours\n$6 Select Cocktails & House Wine
URL:https://kstreetmagazine.com/event/love-ballad-karaoke-2/
LOCATION:Hard Rock Cafe\, 999 E Street NW\, Washington\, DC
CATEGORIES:Music/Concert,Other Entertainment
END:VEVENT
BEGIN:VEVENT
DTSTART;TZID=UTC:20250213T180000
DTEND;TZID=UTC:20250213T210000
DTSTAMP:20260423T141924
CREATED:20250118T155522Z
LAST-MODIFIED:20250118T155522Z
UID:59872-1739469600-1739480400@kstreetmagazine.com
SUMMARY:Sixty Vines Galentine's Party
DESCRIPTION:Sixty Vines is throwing a Galentine’s Party on Thursday\, February 13th from 6-9 p.m.\, and it’s packed with all the feel-good vibes. The event includes a featured rosé flight\, a specialty cocktail called the No Strings Spritz\, and a Carajillo Tasting Station to keep the party going strong. \nThe fun doesn’t stop there—guests can hit up pop-ups that may include vendors such as a permanent jewelry bar\, build-your-own bouquet station\, and a friendship bracelet kit to take the bonding to the next level. \nWith Insta-worthy photo ops and a postcard station for sending love notes to faraway friends\, it’s the perfect night to wine\, dine\, and celebrate the gals who mean the most.
URL:https://kstreetmagazine.com/event/sixty-vines-galentines-party/
LOCATION:Sixty Vines Foggy Bottom\, 2200 Pennsylvania Avenue NW\, Washington\, DC\, 20052
CATEGORIES:Other Entertainment
END:VEVENT
BEGIN:VEVENT
DTSTART;TZID=UTC:20250213T190000
DTEND;TZID=UTC:20250213T220000
DTSTAMP:20260423T141924
CREATED:20250114T211101Z
LAST-MODIFIED:20250114T211101Z
UID:59836-1739473200-1739484000@kstreetmagazine.com
SUMMARY:Hillwood's Come Sail Away Benefit
DESCRIPTION:Event Co-Chairs\nLizzy Conroy\, Lauren Cummings\, and Whitney Hubbard\n\nand Hillwood Executive Director\nKate Markert \n\ninvite you to join Hillwood for Come Sail Away\, a Valentine’s celebration and benefit\, on Thursday\, February 13\, 2024. \n\nPreview the special exhibition Setting Sail: The Story of Sea Cloud\, explore the magic of Hillwood\, and bid on choice items in the silent auction. \nSponsorships and tickets may be purchased online or by calling 202.243.3974.\nSponsorships: $300 to $10\,000\nHillwood Member Ticket: $150 | Public Ticket: $175\n \nYour support is vital to Hillwood’s mission to inspire and educate the public\, continuing the legacy of Marjorie Merriweather Post. Gifts will support the development of innovative new programming\, educational opportunities\, and special exhibitions.
URL:https://kstreetmagazine.com/event/hillwoods-come-sail-away-benefit/
LOCATION:Hillwood Museum & Gardens\, 4155 Linnean Avenue\, NW\, Washington\, DC\, 20008
CATEGORIES:Arts/Theatre,Other Entertainment
END:VEVENT
END:VCALENDAR