BEGIN:VCALENDAR
VERSION:2.0
PRODID:-//K Street Magazine - ECPv6.15.20//NONSGML v1.0//EN
CALSCALE:GREGORIAN
METHOD:PUBLISH
X-WR-CALNAME:K Street Magazine
X-ORIGINAL-URL:https://kstreetmagazine.com
X-WR-CALDESC:Events for K Street Magazine
REFRESH-INTERVAL;VALUE=DURATION:PT1H
X-Robots-Tag:noindex
X-PUBLISHED-TTL:PT1H
BEGIN:VTIMEZONE
TZID:UTC
BEGIN:STANDARD
TZOFFSETFROM:+0000
TZOFFSETTO:+0000
TZNAME:UTC
DTSTART:19690101T000000
END:STANDARD
END:VTIMEZONE
BEGIN:VEVENT
DTSTART;TZID=UTC:20260425T102132
DTEND;TZID=UTC:20250316T150000
DTSTAMP:20260425T102132
CREATED:20250316T154010Z
LAST-MODIFIED:20250316T154010Z
UID:60095-0-1742137200@kstreetmagazine.com
SUMMARY:"Blossom Bash" at Tyson's Corner Center
DESCRIPTION:“Blossom Bash” Event \nSunday March 30\, 2025 \n11:00 a.m. – 3:00 p.m. \nThe Plaza at Tysons Corner Center \nTysons Corner Center will celebrate Cherry Blossom season with a vibrant festival on the \nPlaza\, featuring themed activities\, live art\, entertainment performances\, food sampling\, sip \n& stroll “pink drinks”\, official NCBF merchandise giveaways\, and more. \n\nEvent activities will include: \n●  Exhibits from 20 Tysons Corner Center retailers and restaurants\, showcasing their \nCherry Blossom themed offerings \n●  Live Chalk Art activation in partnership with ArtsFairfax featuring 20 local artists \n●  Family-friendly free activities including face painting \n●  Special performances by Cherry Blossom Parade talent: Washington Commanders \nCommand Force and the Washington Wizards Dance Team \n●  “PenFed Petals” activation during the event; PenFed Credit Union will be \ngiving away beautiful build-your-own bouquets featuring cherry blossom \nbranches and other seasonal flowers. Plus\, their flower wall will be available \nfor selfies. PenFed members get VIP access and premium bouquets. \n●  Custom “Pink Drinks” from Earl’s\, Eddie V’s\, and Barrel + Bushel. Guests can take their drinks to the Plaza to sip\, stroll\, and enjoy the event.
URL:https://kstreetmagazine.com/event/blossom-bash-at-tysons-corner-center/
LOCATION:Tyson’s Corner Center\, 1961 Chain Bridge Rd\, Tysons\, VA\, 22102
CATEGORIES:Other Entertainment
END:VEVENT
BEGIN:VEVENT
DTSTART;TZID=UTC:20250209T180000
DTEND;TZID=UTC:20250209T220000
DTSTAMP:20260425T102132
CREATED:20250131T131917Z
LAST-MODIFIED:20250131T131917Z
UID:59931-1739124000-1739138400@kstreetmagazine.com
SUMMARY:Jack Rose Super Bowl Viewing Party
DESCRIPTION:Two teams. Two floors. Unlimited beer and punch. As the Eagles and Chiefs face off for the title of NFL Super Bowl Champion\, Jack Rose Dining Saloon will host their annual Super Bowl Viewing Party on Sunday\, February 9. Hosted on two floors (the indoor Saloon and heated/enclosed rooftop terrace)\, the all-you-can-drink party features bottomless brews and “SuperPunch” plus game day snack platters from 6-10 p.m. \n$65/person guarantees attendees reserved seating in view of the game (on an XL projector screen in the Saloon\, or on four flat screen TVs on the terrace); plus bottomless beer (including Dale’s Pale Ale\, Maine Lunch IPA and Narragansett); unlimited “SuperPunch” (a refreshing\, low-ABV seasonal tea punch made with Grand Marnier\, whole leaf tea\, citrus\, and seasonal spices)\, and a Game Day Welcome Sampler Platter featuring snacks like buffalo chicken dip\, pico street corn salsa\, puff pastry pigs in a blanket\, loaded fries\, pretzel fries and fried saltines. \nAn additional a la carte menu of specials will also be available\, including a “Spaghett” Beer + Aperol shot combo; an exclusive Winter Warmers Whiskey “Face-off” menu (where American and Scotch whiskies go head-to-head); plus Jack Rose’s full bar menu and a special selection of five extra wing flavors! \nTickets to Jack Rose’s Super Bowl Viewing Party are $65/person (plus tax & service fee)\, and can be booked on Resy. Doors open at 4pm for walk-in bar seats on both floors. \nAnd for those watching the big game at home\, Jack Rose offers large-format “Game Day Platters” ($96) for takeout and delivery\, featuring two dozen wings\, fried mac & cheese\, the bar’s famous chicken skins\, plus add-ons like fried RI calamari\, coconut shrimp\, shishito peppers & more. Orders can be placed here. \nFor more information\, please visit www.jackrosediningsaloon.com\, follow them on Instagram @jackroseindc\, or call 202-588-7388. \nWHO:              Jack Rose Dining Saloon \nWHEN:           Sunday\, February 9\, 2025 \n6 p.m. – 10 p.m. (open at 4pm) \nWHERE:          Jack Rose Dining Saloon \n2007 18th Street NW \nWashington\, DC 20009
URL:https://kstreetmagazine.com/event/jack-rose-super-bowl-viewing-party/
LOCATION:Jack Rose Dining Saloon\, 2007 18th Street NW\, Washington\, DC\, 20009
CATEGORIES:Sports
END:VEVENT
END:VCALENDAR