BEGIN:VCALENDAR
VERSION:2.0
PRODID:-//K Street Magazine - ECPv6.15.20//NONSGML v1.0//EN
CALSCALE:GREGORIAN
METHOD:PUBLISH
X-WR-CALNAME:K Street Magazine
X-ORIGINAL-URL:https://kstreetmagazine.com
X-WR-CALDESC:Events for K Street Magazine
REFRESH-INTERVAL;VALUE=DURATION:PT1H
X-Robots-Tag:noindex
X-PUBLISHED-TTL:PT1H
BEGIN:VTIMEZONE
TZID:UTC
BEGIN:STANDARD
TZOFFSETFROM:+0000
TZOFFSETTO:+0000
TZNAME:UTC
DTSTART:19690101T000000
END:STANDARD
END:VTIMEZONE
BEGIN:VEVENT
DTSTART;TZID=UTC:20260421T145424
DTEND;TZID=UTC:20250316T150000
DTSTAMP:20260421T145424
CREATED:20250316T154010Z
LAST-MODIFIED:20250316T154010Z
UID:60095-0-1742137200@kstreetmagazine.com
SUMMARY:"Blossom Bash" at Tyson's Corner Center
DESCRIPTION:“Blossom Bash” Event \nSunday March 30\, 2025 \n11:00 a.m. – 3:00 p.m. \nThe Plaza at Tysons Corner Center \nTysons Corner Center will celebrate Cherry Blossom season with a vibrant festival on the \nPlaza\, featuring themed activities\, live art\, entertainment performances\, food sampling\, sip \n& stroll “pink drinks”\, official NCBF merchandise giveaways\, and more. \n\nEvent activities will include: \n●  Exhibits from 20 Tysons Corner Center retailers and restaurants\, showcasing their \nCherry Blossom themed offerings \n●  Live Chalk Art activation in partnership with ArtsFairfax featuring 20 local artists \n●  Family-friendly free activities including face painting \n●  Special performances by Cherry Blossom Parade talent: Washington Commanders \nCommand Force and the Washington Wizards Dance Team \n●  “PenFed Petals” activation during the event; PenFed Credit Union will be \ngiving away beautiful build-your-own bouquets featuring cherry blossom \nbranches and other seasonal flowers. Plus\, their flower wall will be available \nfor selfies. PenFed members get VIP access and premium bouquets. \n●  Custom “Pink Drinks” from Earl’s\, Eddie V’s\, and Barrel + Bushel. Guests can take their drinks to the Plaza to sip\, stroll\, and enjoy the event.
URL:https://kstreetmagazine.com/event/blossom-bash-at-tysons-corner-center/
LOCATION:Tyson’s Corner Center\, 1961 Chain Bridge Rd\, Tysons\, VA\, 22102
CATEGORIES:Other Entertainment
END:VEVENT
BEGIN:VEVENT
DTSTART;TZID=UTC:20250126T160000
DTEND;TZID=UTC:20250126T190000
DTSTAMP:20260421T145424
CREATED:20250116T022841Z
LAST-MODIFIED:20250116T022841Z
UID:59842-1737907200-1737918000@kstreetmagazine.com
SUMMARY:First Musical Reading of Damien Geter's "Delta King's Blues"
DESCRIPTION:Over the past 3 years\, IN Series has been collaborating with librettist and Cardwell Dawson Artist Fellow Jarrod Lee\, and composer Damien Geter\, to commission a new “blues” opera based on the life of blues legend Robert Johnson. \nJohnson\, according to legend\, sold his soul to the devil to learn the blues\, and in doing so invented the first truly American musical genre. The new Faustian opera\, premiering in a fully staged production in the 25-26 season will receive its first musical reading with Curtis Bannister as Robert Johnson\, Carl Dupont as the Devil\, Melissa Wimbish as Virginia\, Marvin Wayne Allen III as Willy\, and Jonathan Pierce Rhodes as the son. \n“The music of my chamber opera Delta King’s Blues is certainly a stylized version of Robert Johnson’s own blues making\, but also incorporates a sound world that is akin to what we know as contemporary “classical” music said Damien Geter. “These palettes exist to place the listener in Johnson’s world\, as well as the opposing\, mysterious\, and menacing place of the Crossroads where Johnson is said to have sold his soul.” \nDelta King’s Blues \n*new opera by Damien Geter\, libretto by Jarrod Lee FIRST MUSICAL READING \nDATE: Sunday\, January 26 at 4 PM\, reception at 5 PM \nLocation: MLK Library Auditorium: 901 G St NW\, Washington\, DC 20001 \nTickets: show $35\, $50 reception\, $75 combination of show and reception \nPurchase HERE \n*proceeds from the reception will be used to complete the commission of this new opera \n  \nFurther productions in IN Series’ 2024-25 season include Monteverdi’s Poppea\, which runs March 14-29 at Dupont Underground\, St. Mark’s Capitol Hill and Baltimore Theatre Project. The composer’s most famous and audacious final opera of love\, power\, sex\, and betrayal will be brought to life by Artistic Director Timothy Nelson in collaboration with Indian-Canadian choreographer Hari Krishnan and the INnovātiō Orchestra\, IN Series’ own period baroque band\, blending music of South India in an evening of whirling passion\, music\, poetry\, and Bharatanatyam dance. Concluding the season May 17 – June 1 is the long-awaited world premiere of Ethiopia\, a “living newspaper” written by Arthur Arent in 1937 that fuses theater and music to tell the story of Italy’s colonialist attack on Haile Selassie’s Ethiopia while the world stayed silent. Banned by the Roosevelt administration and never performed\, the work has been revived by playwright Sybil R. Williams with new music by Janelle Gill and will be showcased at Greenberg Theatre and Baltimore Theatre Project. \n 
URL:https://kstreetmagazine.com/event/delta-kings-blues/
LOCATION:MLK Auditorium\, 901 G St NW\, Washington\, DC\, 20001
CATEGORIES:Music/Concert
END:VEVENT
END:VCALENDAR