BEGIN:VCALENDAR
VERSION:2.0
PRODID:-//K Street Magazine - ECPv6.15.20//NONSGML v1.0//EN
CALSCALE:GREGORIAN
METHOD:PUBLISH
X-WR-CALNAME:K Street Magazine
X-ORIGINAL-URL:https://kstreetmagazine.com
X-WR-CALDESC:Events for K Street Magazine
REFRESH-INTERVAL;VALUE=DURATION:PT1H
X-Robots-Tag:noindex
X-PUBLISHED-TTL:PT1H
BEGIN:VTIMEZONE
TZID:UTC
BEGIN:STANDARD
TZOFFSETFROM:+0000
TZOFFSETTO:+0000
TZNAME:UTC
DTSTART:19690101T000000
END:STANDARD
END:VTIMEZONE
BEGIN:VEVENT
DTSTART;TZID=UTC:20260421T090940
DTEND;TZID=UTC:20250316T150000
DTSTAMP:20260421T090940
CREATED:20250316T154010Z
LAST-MODIFIED:20250316T154010Z
UID:60095-0-1742137200@kstreetmagazine.com
SUMMARY:"Blossom Bash" at Tyson's Corner Center
DESCRIPTION:“Blossom Bash” Event \nSunday March 30\, 2025 \n11:00 a.m. – 3:00 p.m. \nThe Plaza at Tysons Corner Center \nTysons Corner Center will celebrate Cherry Blossom season with a vibrant festival on the \nPlaza\, featuring themed activities\, live art\, entertainment performances\, food sampling\, sip \n& stroll “pink drinks”\, official NCBF merchandise giveaways\, and more. \n\nEvent activities will include: \n●  Exhibits from 20 Tysons Corner Center retailers and restaurants\, showcasing their \nCherry Blossom themed offerings \n●  Live Chalk Art activation in partnership with ArtsFairfax featuring 20 local artists \n●  Family-friendly free activities including face painting \n●  Special performances by Cherry Blossom Parade talent: Washington Commanders \nCommand Force and the Washington Wizards Dance Team \n●  “PenFed Petals” activation during the event; PenFed Credit Union will be \ngiving away beautiful build-your-own bouquets featuring cherry blossom \nbranches and other seasonal flowers. Plus\, their flower wall will be available \nfor selfies. PenFed members get VIP access and premium bouquets. \n●  Custom “Pink Drinks” from Earl’s\, Eddie V’s\, and Barrel + Bushel. Guests can take their drinks to the Plaza to sip\, stroll\, and enjoy the event.
URL:https://kstreetmagazine.com/event/blossom-bash-at-tysons-corner-center/
LOCATION:Tyson’s Corner Center\, 1961 Chain Bridge Rd\, Tysons\, VA\, 22102
CATEGORIES:Other Entertainment
END:VEVENT
BEGIN:VEVENT
DTSTART;TZID=UTC:20250125T110000
DTEND;TZID=UTC:20250125T150000
DTSTAMP:20260421T090940
CREATED:20250118T150850Z
LAST-MODIFIED:20250118T150850Z
UID:59868-1737802800-1737817200@kstreetmagazine.com
SUMMARY:Westfield Montgomery Celebrates Year of the Snake w/ Love is Blind DC's Taylor & Garrett
DESCRIPTION:This year\, Westfield Montgomery celebrates the Year of the Snake with cultural activities and performances for all ages. \nAttendees can look forward to spectacular lion and dragon dances\, captivating musical acts\, dynamic kung fu demonstrations\, and hands-on arts and crafts\, including calligraphy and lantern-making workshops. Plus\, don’t miss a complimentary photo booth activation. Each day will feature a similar lineup of celebrations\, but the first weekend will kick off with opening remarks from Taylor and Garrett from Love is Blind DC\, esteemed guests and Chinese Culture and Community Service Center (CCACC) leaders. The festivities will culminate on February 8 with an exciting Lantern Festival\, complete with interactive riddles and prizes for participants. \nAs part of this celebration\, Westfield Montgomery invites shoppers to participate in a cherished Lunar New Year tradition by donating their gently used clothing to benefit Interfaith Works. Those who donate will receive a special red envelope\, known as “hongboa”\, or “lucky money” to redeem at participating retailers within Westfield Montgomery. Only from 11AM – 3PM on January 25th\, while supplies last. \nA full line up of the events can be found here and guest are encouraged to RVSP (for free) here. \nJanuary 25th \n\n\n\n10:40AM – 11AM – Dragon parade inside Westfield Montgomery\n11AM – Meet the Dragon at Center Court on Level 1 for opening remarks from CCACC\, Westfield Montgomery and local dignitaries\n11AM – 3PM – Cultural Performances\, Arts & Crafts\n\nVarious live performances include lion & dragon dances to symbolize luck\, happiness\, braveness\, and power. Musicals\, singing\, folk dancing\, opera\, kung-fu & martial arts\, Taichi\, folk sports\, Guzheng\, harmonica and more!\nExhibits and hands-on crafts include traditional Chinese painting & calligraphy\, flour doll making\, paper cutting crafts\, origami\, henna tattoo\, fashion and more!
URL:https://kstreetmagazine.com/event/love-is-blind-taylor-and-garrett/
LOCATION:Westfield Montgomery Mall\, 7101 Democracy Blvd.\, Bethesda\, MD\, 20817
CATEGORIES:Cultural
END:VEVENT
END:VCALENDAR