BEGIN:VCALENDAR
VERSION:2.0
PRODID:-//K Street Magazine - ECPv6.15.20//NONSGML v1.0//EN
CALSCALE:GREGORIAN
METHOD:PUBLISH
X-WR-CALNAME:K Street Magazine
X-ORIGINAL-URL:https://kstreetmagazine.com
X-WR-CALDESC:Events for K Street Magazine
REFRESH-INTERVAL;VALUE=DURATION:PT1H
X-Robots-Tag:noindex
X-PUBLISHED-TTL:PT1H
BEGIN:VTIMEZONE
TZID:UTC
BEGIN:STANDARD
TZOFFSETFROM:+0000
TZOFFSETTO:+0000
TZNAME:UTC
DTSTART:19690101T000000
END:STANDARD
END:VTIMEZONE
BEGIN:VEVENT
DTSTART;TZID=UTC:20260423T141915
DTEND;TZID=UTC:20250316T150000
DTSTAMP:20260423T141915
CREATED:20250316T154010Z
LAST-MODIFIED:20250316T154010Z
UID:60095-0-1742137200@kstreetmagazine.com
SUMMARY:"Blossom Bash" at Tyson's Corner Center
DESCRIPTION:“Blossom Bash” Event \nSunday March 30\, 2025 \n11:00 a.m. – 3:00 p.m. \nThe Plaza at Tysons Corner Center \nTysons Corner Center will celebrate Cherry Blossom season with a vibrant festival on the \nPlaza\, featuring themed activities\, live art\, entertainment performances\, food sampling\, sip \n& stroll “pink drinks”\, official NCBF merchandise giveaways\, and more. \n\nEvent activities will include: \n●  Exhibits from 20 Tysons Corner Center retailers and restaurants\, showcasing their \nCherry Blossom themed offerings \n●  Live Chalk Art activation in partnership with ArtsFairfax featuring 20 local artists \n●  Family-friendly free activities including face painting \n●  Special performances by Cherry Blossom Parade talent: Washington Commanders \nCommand Force and the Washington Wizards Dance Team \n●  “PenFed Petals” activation during the event; PenFed Credit Union will be \ngiving away beautiful build-your-own bouquets featuring cherry blossom \nbranches and other seasonal flowers. Plus\, their flower wall will be available \nfor selfies. PenFed members get VIP access and premium bouquets. \n●  Custom “Pink Drinks” from Earl’s\, Eddie V’s\, and Barrel + Bushel. Guests can take their drinks to the Plaza to sip\, stroll\, and enjoy the event.
URL:https://kstreetmagazine.com/event/blossom-bash-at-tysons-corner-center/
LOCATION:Tyson’s Corner Center\, 1961 Chain Bridge Rd\, Tysons\, VA\, 22102
CATEGORIES:Other Entertainment
END:VEVENT
BEGIN:VEVENT
DTSTART;TZID=UTC:20241210T114500
DTEND;TZID=UTC:20241210T130000
DTSTAMP:20260423T141915
CREATED:20241122T133522Z
LAST-MODIFIED:20241122T133522Z
UID:59708-1733831100-1733835600@kstreetmagazine.com
SUMMARY:Q&A with Renée Fleming
DESCRIPTION:Tues. Dec. 10 is the last Q&A of 2024:  what Carol Joynt claims is “sure to be a riveting conversation” with international opera star Renée Fleming. In addition to her remarkable life and career\, they will discuss her work with NIH in studying the ways music can improve brain health. “I have the privilege of being in a flow state almost every time I perform\,” she says. “I feel so happy and calm when I get off stage.”  \nMake your reservation today with the Georgetown Club. \nPhone 202-333-9330 or email reservationist@georgetownclub.org.\n \nThe fee is $35\, all inclusive of lunch plus desert from Georgetown Cupcake. \nSeating begins at 11:45\, the show begins at noon\nThe Georgetown Club\, 1530 Wisconsin Ave. NW
URL:https://kstreetmagazine.com/event/qa-with-renee-fleming/
LOCATION:Georgetown Club\, 1530 Wisconsin Ave. NW\, Washington\, DC
CATEGORIES:Music/Concert,Other Entertainment
END:VEVENT
BEGIN:VEVENT
DTSTART;TZID=UTC:20241210T193000
DTEND;TZID=UTC:20241210T210000
DTSTAMP:20260423T141915
CREATED:20241130T123410Z
LAST-MODIFIED:20241130T123410Z
UID:59719-1733859000-1733864400@kstreetmagazine.com
SUMMARY:Folger’s Annual Emily Dickinson Birthday Tribute
DESCRIPTION:The O.B. Hardison Poetry series hosts its annual celebration of Emily Dickinson with a reading by the Poetry Foundation’s Ruth Lilly Lifetime Achievement Award winner Kimiko Hahn. \nHahn is the author of ten collections of poetry\, including The Ghost Forest: New & Selected Poems. From the political to the personal\, and from science to the journals of Matsuo Bashō\, the celebrated Haiku poet of Japan\, Hahn brings a lyrical gaze to all these subjects and more. \nPoet and civil rights lawyer Sunu Chandy moderates the post-reading conversation with a book selling and signing to follow the reading. \nEmily Dickinson’s famous black cake\, specially prepared by SugaChef\, will be shared for the occasion.
URL:https://kstreetmagazine.com/event/folgers-annual-emily-dickinson-birthday-tribute/
LOCATION:Folger Shakespeare Library\, 201 E Capital Street NE\, Washington\, DC\, DC\, 20002
CATEGORIES:Arts/Theatre
END:VEVENT
END:VCALENDAR